BEGIN:VCALENDAR
VERSION:2.0
PRODID:-// - ECPv6.15.20//NONSGML v1.0//EN
CALSCALE:GREGORIAN
METHOD:PUBLISH
X-ORIGINAL-URL:https://tg-waldniel.de
X-WR-CALDESC:Veranstaltungen für 
REFRESH-INTERVAL;VALUE=DURATION:PT1H
X-Robots-Tag:noindex
X-PUBLISHED-TTL:PT1H
BEGIN:VTIMEZONE
TZID:Europe/Helsinki
BEGIN:DAYLIGHT
TZOFFSETFROM:+0200
TZOFFSETTO:+0300
TZNAME:EEST
DTSTART:20250330T010000
END:DAYLIGHT
BEGIN:STANDARD
TZOFFSETFROM:+0300
TZOFFSETTO:+0200
TZNAME:EET
DTSTART:20251026T010000
END:STANDARD
BEGIN:DAYLIGHT
TZOFFSETFROM:+0200
TZOFFSETTO:+0300
TZNAME:EEST
DTSTART:20260329T010000
END:DAYLIGHT
BEGIN:STANDARD
TZOFFSETFROM:+0300
TZOFFSETTO:+0200
TZNAME:EET
DTSTART:20261025T010000
END:STANDARD
BEGIN:DAYLIGHT
TZOFFSETFROM:+0200
TZOFFSETTO:+0300
TZNAME:EEST
DTSTART:20270328T010000
END:DAYLIGHT
BEGIN:STANDARD
TZOFFSETFROM:+0300
TZOFFSETTO:+0200
TZNAME:EET
DTSTART:20271031T010000
END:STANDARD
END:VTIMEZONE
BEGIN:VEVENT
DTSTART;TZID=Europe/Helsinki:20260606T140000
DTEND;TZID=Europe/Helsinki:20260606T200000
DTSTAMP:20260423T131358
CREATED:20260416T065231Z
LAST-MODIFIED:20260416T065231Z
UID:5734-1780754400-1780776000@tg-waldniel.de
SUMMARY:Herren 40\, TG Waldniel 1-RW Kempen 3.     Herren 60\, TG Waldniel 1- Uedemer TC 1.
DESCRIPTION:
URL:https://tg-waldniel.de/event/herren-40-tg-waldniel-1-rw-kempen-3-herren-60-tg-waldniel-1-uedemer-tc-1/
LOCATION:TG Waldniel 1953 e.V.
END:VEVENT
BEGIN:VEVENT
DTSTART;TZID=Europe/Helsinki:20260609T100000
DTEND;TZID=Europe/Helsinki:20260609T150000
DTSTAMP:20260423T131358
CREATED:20260416T065416Z
LAST-MODIFIED:20260416T065416Z
UID:5737-1780999200-1781017200@tg-waldniel.de
SUMMARY:Herren 65\, TG Waldniel 1- TC Weissenberg 1
DESCRIPTION:
URL:https://tg-waldniel.de/event/herren-65-tg-waldniel-1-tc-weissenberg-1/
LOCATION:TG Waldniel 1953 e.V.
END:VEVENT
BEGIN:VEVENT
DTSTART;TZID=Europe/Helsinki:20260613T140000
DTEND;TZID=Europe/Helsinki:20260613T200000
DTSTAMP:20260423T131358
CREATED:20260416T065618Z
LAST-MODIFIED:20260416T065618Z
UID:5739-1781359200-1781380800@tg-waldniel.de
SUMMARY:Herren 40\, TG Waldniel 1- Odenkirchener TC 1.      Herren 50\, TG Waldniel 1-TC Bovert 2 .
DESCRIPTION:
URL:https://tg-waldniel.de/event/herren-40-tg-waldniel-1-odenkirchener-tc-1-herren-50-tg-waldniel-1-tc-bovert-2/
LOCATION:TG Waldniel 1953 e.V.
END:VEVENT
BEGIN:VEVENT
DTSTART;TZID=Europe/Helsinki:20260614T090000
DTEND;TZID=Europe/Helsinki:20260614T140000
DTSTAMP:20260423T131358
CREATED:20260416T065751Z
LAST-MODIFIED:20260416T065751Z
UID:5741-1781427600-1781445600@tg-waldniel.de
SUMMARY:Damen 40/2\, TG Waldniel 2- Krefelder TG 3.
DESCRIPTION:
URL:https://tg-waldniel.de/event/damen-40-2-tg-waldniel-2-krefelder-tg-3/
LOCATION:TG Waldniel 1953 e.V.
END:VEVENT
BEGIN:VEVENT
DTSTART;TZID=Europe/Helsinki:20260620T140000
DTEND;TZID=Europe/Helsinki:20260620T200000
DTSTAMP:20260423T131358
CREATED:20260416T070009Z
LAST-MODIFIED:20260416T070009Z
UID:5743-1781964000-1781985600@tg-waldniel.de
SUMMARY:Offene Herren\, TG Waldniel 1- TSV Meerbusch 2. 	  Damen 30\, TG Waldniel 1- TC RW Süchteln. 1
DESCRIPTION:
URL:https://tg-waldniel.de/event/offene-herren-tg-waldniel-1-tsv-meerbusch-2-damen-30-tg-waldniel-1-tc-rw-suechteln-1/
LOCATION:TG Waldniel 1953 e.V.
END:VEVENT
BEGIN:VEVENT
DTSTART;TZID=Europe/Helsinki:20260621T143000
DTEND;TZID=Europe/Helsinki:20260621T203000
DTSTAMP:20260423T131358
CREATED:20260416T070125Z
LAST-MODIFIED:20260416T070125Z
UID:5745-1782052200-1782073800@tg-waldniel.de
SUMMARY:Offene Damen\, TG Waldniel 1- TUS St. Hubert 2.
DESCRIPTION:
URL:https://tg-waldniel.de/event/offene-damen-tg-waldniel-1-tus-st-hubert-2/
LOCATION:TG Waldniel 1953 e.V.
END:VEVENT
BEGIN:VEVENT
DTSTART;TZID=Europe/Helsinki:20260627T140000
DTEND;TZID=Europe/Helsinki:20260627T200000
DTSTAMP:20260423T131358
CREATED:20260416T070339Z
LAST-MODIFIED:20260416T070339Z
UID:5747-1782568800-1782590400@tg-waldniel.de
SUMMARY:Damen 55/1\, TG Waldniel 1-TC Heisingen 1. 	Herren 60\, TG Waldniel 1- TC Kapellen 1.
DESCRIPTION:
URL:https://tg-waldniel.de/event/damen-55-1-tg-waldniel-1-tc-heisingen-1-herren-60-tg-waldniel-1-tc-kapellen-1/
LOCATION:TG Waldniel 1953 e.V.
END:VEVENT
BEGIN:VEVENT
DTSTART;TZID=Europe/Helsinki:20260628T090000
DTEND;TZID=Europe/Helsinki:20260628T150000
DTSTAMP:20260423T131358
CREATED:20260416T070447Z
LAST-MODIFIED:20260416T070447Z
UID:5749-1782637200-1782658800@tg-waldniel.de
SUMMARY:Herren 40\, TG Waldniel 1- TC RW Süchteln 2.
DESCRIPTION:
URL:https://tg-waldniel.de/event/herren-40-tg-waldniel-1-tc-rw-suechteln-2/
LOCATION:TG Waldniel 1953 e.V.
END:VEVENT
BEGIN:VEVENT
DTSTART;TZID=Europe/Helsinki:20260628T143000
DTEND;TZID=Europe/Helsinki:20260628T193000
DTSTAMP:20260423T131358
CREATED:20260416T070743Z
LAST-MODIFIED:20260416T070743Z
UID:5751-1782657000-1782675000@tg-waldniel.de
SUMMARY:Damen 40/2\, TG Waldniel 2-TC Schaephuysen 2.
DESCRIPTION:
URL:https://tg-waldniel.de/event/damen-40-2-tg-waldniel-2-tc-schaephuysen-2/
LOCATION:TG Waldniel 1953 e.V.
END:VEVENT
END:VCALENDAR