BEGIN:VCALENDAR
VERSION:2.0
PRODID:-// - ECPv6.15.20//NONSGML v1.0//EN
CALSCALE:GREGORIAN
METHOD:PUBLISH
X-ORIGINAL-URL:https://tg-waldniel.de
X-WR-CALDESC:Veranstaltungen für 
REFRESH-INTERVAL;VALUE=DURATION:PT1H
X-Robots-Tag:noindex
X-PUBLISHED-TTL:PT1H
BEGIN:VTIMEZONE
TZID:Europe/Helsinki
BEGIN:DAYLIGHT
TZOFFSETFROM:+0200
TZOFFSETTO:+0300
TZNAME:EEST
DTSTART:20240331T010000
END:DAYLIGHT
BEGIN:STANDARD
TZOFFSETFROM:+0300
TZOFFSETTO:+0200
TZNAME:EET
DTSTART:20241027T010000
END:STANDARD
BEGIN:DAYLIGHT
TZOFFSETFROM:+0200
TZOFFSETTO:+0300
TZNAME:EEST
DTSTART:20250330T010000
END:DAYLIGHT
BEGIN:STANDARD
TZOFFSETFROM:+0300
TZOFFSETTO:+0200
TZNAME:EET
DTSTART:20251026T010000
END:STANDARD
BEGIN:DAYLIGHT
TZOFFSETFROM:+0200
TZOFFSETTO:+0300
TZNAME:EEST
DTSTART:20260329T010000
END:DAYLIGHT
BEGIN:STANDARD
TZOFFSETFROM:+0300
TZOFFSETTO:+0200
TZNAME:EET
DTSTART:20261025T010000
END:STANDARD
END:VTIMEZONE
BEGIN:VEVENT
DTSTART;TZID=Europe/Helsinki:20250601T090000
DTEND;TZID=Europe/Helsinki:20250601T140000
DTSTAMP:20260421T213309
CREATED:20250413T082136Z
LAST-MODIFIED:20250413T082136Z
UID:4931-1748768400-1748786400@tg-waldniel.de
SUMMARY:Medenspiele\, Heimspiele Offene Herren & D40/1\, Außwärts D 40/2
DESCRIPTION:Heimspiel 09.00 Uhr: Offene Herren – TUS St Hubert 2. \n                                         Damen 40/1 – Treudeutsch Lank 2. \nAußwärts 09:00 Uhr: Casino Kempen 1 – Damen 40/2.
URL:https://tg-waldniel.de/event/medenspiele-heimspiele-offene-herren-d40-1-ausswaerts-d-40-2/
END:VEVENT
BEGIN:VEVENT
DTSTART;TZID=Europe/Helsinki:20250602T163000
DTEND;TZID=Europe/Helsinki:20250602T200000
DTSTAMP:20260421T213309
CREATED:20250413T163807Z
LAST-MODIFIED:20250413T163807Z
UID:4933-1748881800-1748894400@tg-waldniel.de
SUMMARY:Medenspiel Junioren U18 - Dülkener TC
DESCRIPTION:Heimspiel 16:30 Uhr: Junioren U18 – Dülkener TC
URL:https://tg-waldniel.de/event/medenspiel-junioren-u18-duelkener-tc/
LOCATION:TG Waldniel 1953 e.V.
END:VEVENT
BEGIN:VEVENT
DTSTART;TZID=Europe/Helsinki:20250603T100000
DTEND;TZID=Europe/Helsinki:20250603T143000
DTSTAMP:20260421T213309
CREATED:20250413T164036Z
LAST-MODIFIED:20250413T164110Z
UID:4935-1748944800-1748961000@tg-waldniel.de
SUMMARY:Medenspiel Herren 65 \, Oppumer TC - TG Waldniel 1953 e.V.
DESCRIPTION:Außwärts\, 10:00 Uhr: Oppumer TC – Herren 65
URL:https://tg-waldniel.de/event/medenspiel-herren-65-oppumer-tc-tg-waldniel-1953-e-v/
LOCATION:TG Waldniel 1953 e.V.
END:VEVENT
BEGIN:VEVENT
DTSTART;TZID=Europe/Helsinki:20250614T140000
DTEND;TZID=Europe/Helsinki:20250614T193000
DTSTAMP:20260421T213309
CREATED:20250413T164824Z
LAST-MODIFIED:20250614T081903Z
UID:4937-1749909600-1749929400@tg-waldniel.de
SUMMARY:Medenspiele Heim D30 & H60\, Außwärts D40\, D55/1\, D55/2 & H50.
DESCRIPTION:Heimspiel\, 14:00 Uhr: Damen 30 – Crefelder HTC. \n                                          Herren 60 – TC Schaephuysen. \nAuwärts\, 14:00 Uhr:   Germania Liedberg – Damen 40. \n                                         TC Weissenberg – Damen 55/1. \n                                        Dülkener TC 2 – Damen 55/2. \n                                        TC Neuwerk e.V. – Herren 50.
URL:https://tg-waldniel.de/event/medenspiele-heim-d30-h60-ausswaerts-d40-d55-1-d55-2-h50/
LOCATION:TG Waldniel 1953 e.V.
END:VEVENT
BEGIN:VEVENT
DTSTART;TZID=Europe/Helsinki:20250615T090000
DTEND;TZID=Europe/Helsinki:20250615T140000
DTSTAMP:20260421T213309
CREATED:20250413T164950Z
LAST-MODIFIED:20250413T165142Z
UID:4939-1749978000-1749996000@tg-waldniel.de
SUMMARY:Medenspiel Damen 40/2.
DESCRIPTION:Heimspiel\, 09:00 Uhr: Damen 40/2 – Nettetal-Hinsbeck 1.
URL:https://tg-waldniel.de/event/medenspiel-damen-40-2/
END:VEVENT
BEGIN:VEVENT
DTSTART;TZID=Europe/Helsinki:20250617T100000
DTEND;TZID=Europe/Helsinki:20250617T143000
DTSTAMP:20260421T213309
CREATED:20250413T165527Z
LAST-MODIFIED:20250413T165527Z
UID:4941-1750154400-1750170600@tg-waldniel.de
SUMMARY:Medenspiel Herren 65 (Heimspiel).
DESCRIPTION:Heimspiel\, 10:00 Uhr: Herren 65 – TC Schiefbahn 1
URL:https://tg-waldniel.de/event/medenspiel-herren-65-heimspiel/
END:VEVENT
BEGIN:VEVENT
DTSTART;TZID=Europe/Helsinki:20250621T140000
DTEND;TZID=Europe/Helsinki:20250621T193000
DTSTAMP:20260421T213309
CREATED:20250417T092904Z
LAST-MODIFIED:20250417T092904Z
UID:4945-1750514400-1750534200@tg-waldniel.de
SUMMARY:Medenspiele\, Heim D 55/2 & H 60 und Außwärts D 55/1 & H 40.
DESCRIPTION:Heimspiel\, 14:00 Uhr: Damen 55/2 – TC Weissenberg 1. \n                                         Herren 60 – Korschenbroich TC 2. \nAußwärts\, 14:00 Uhr: Treudeutsch Lank 1 – Damen 55/1. \n                                         TC Forstwald 1 -Herren 40.
URL:https://tg-waldniel.de/event/medenspiele-heim-d-55-2-h-60-und-ausswaerts-d-55-1-h-40/
LOCATION:TG Waldniel 1953 e.V.
END:VEVENT
BEGIN:VEVENT
DTSTART;TZID=Europe/Helsinki:20250622T090000
DTEND;TZID=Europe/Helsinki:20250622T143000
DTSTAMP:20260421T213309
CREATED:20250417T093159Z
LAST-MODIFIED:20250417T093220Z
UID:4947-1750582800-1750602600@tg-waldniel.de
SUMMARY:Medenspiele Heim\, D 40/2 & H 50.
DESCRIPTION:Heimspiel\, 09:00 Uhr: Damen 40/2 – TG Brüggen. \n                                           Herren 50 – TG Brüggen.
URL:https://tg-waldniel.de/event/medenspiele-heim-d-40-2-h-50/
LOCATION:TG Waldniel 1953 e.V.
END:VEVENT
BEGIN:VEVENT
DTSTART;TZID=Europe/Helsinki:20250628T090000
DTEND;TZID=Europe/Helsinki:20250628T143000
DTSTAMP:20260421T213309
CREATED:20250417T093500Z
LAST-MODIFIED:20250417T093633Z
UID:4949-1751101200-1751121000@tg-waldniel.de
SUMMARY:Medenspiel Außwärts\, Offene Herren.
DESCRIPTION:Heimspiel\, 14:00 Uhr: Herren 40 – Korschenbroicher TC 2. \nAußwärts\, 09:00 Uhr: VSF Amern – Offene Herren.
URL:https://tg-waldniel.de/event/medenspiel-ausswaerts-offene-herren/
LOCATION:TG Waldniel 1953 e.V.
END:VEVENT
BEGIN:VEVENT
DTSTART;TZID=Europe/Helsinki:20250629T143000
DTEND;TZID=Europe/Helsinki:20250629T200000
DTSTAMP:20260421T213309
CREATED:20250417T093848Z
LAST-MODIFIED:20250417T093848Z
UID:4953-1751207400-1751227200@tg-waldniel.de
SUMMARY:Medenspiel\, Außwärts H40.
DESCRIPTION:Außwärts\, 14:00 Uhr: RW Kempen 3 – Herren 40
URL:https://tg-waldniel.de/event/medenspiel-ausswaerts-h40/
END:VEVENT
END:VCALENDAR