BEGIN:VCALENDAR
VERSION:2.0
PRODID:-// - ECPv6.15.20//NONSGML v1.0//EN
CALSCALE:GREGORIAN
METHOD:PUBLISH
X-ORIGINAL-URL:https://tg-waldniel.de
X-WR-CALDESC:Veranstaltungen für 
REFRESH-INTERVAL;VALUE=DURATION:PT1H
X-Robots-Tag:noindex
X-PUBLISHED-TTL:PT1H
BEGIN:VTIMEZONE
TZID:Europe/Helsinki
BEGIN:DAYLIGHT
TZOFFSETFROM:+0200
TZOFFSETTO:+0300
TZNAME:EEST
DTSTART:20240331T010000
END:DAYLIGHT
BEGIN:STANDARD
TZOFFSETFROM:+0300
TZOFFSETTO:+0200
TZNAME:EET
DTSTART:20241027T010000
END:STANDARD
BEGIN:DAYLIGHT
TZOFFSETFROM:+0200
TZOFFSETTO:+0300
TZNAME:EEST
DTSTART:20250330T010000
END:DAYLIGHT
BEGIN:STANDARD
TZOFFSETFROM:+0300
TZOFFSETTO:+0200
TZNAME:EET
DTSTART:20251026T010000
END:STANDARD
BEGIN:DAYLIGHT
TZOFFSETFROM:+0200
TZOFFSETTO:+0300
TZNAME:EEST
DTSTART:20260329T010000
END:DAYLIGHT
BEGIN:STANDARD
TZOFFSETFROM:+0300
TZOFFSETTO:+0200
TZNAME:EET
DTSTART:20261025T010000
END:STANDARD
END:VTIMEZONE
BEGIN:VEVENT
DTSTART;TZID=Europe/Helsinki:20250404T163000
DTEND;TZID=Europe/Helsinki:20250404T190000
DTSTAMP:20260422T004007
CREATED:20250202T181725Z
LAST-MODIFIED:20250331T181945Z
UID:4797-1743784200-1743793200@tg-waldniel.de
SUMMARY:Frühjahrinstandsetzung
DESCRIPTION:
URL:https://tg-waldniel.de/event/fruehjahrinstandsetzung/
LOCATION:TG Waldniel
END:VEVENT
BEGIN:VEVENT
DTSTART;TZID=Europe/Helsinki:20250405T100000
DTEND;TZID=Europe/Helsinki:20250405T140000
DTSTAMP:20260422T004007
CREATED:20250202T181857Z
LAST-MODIFIED:20250202T181857Z
UID:4799-1743847200-1743861600@tg-waldniel.de
SUMMARY:Frühjahrsinstandsetzung.
DESCRIPTION:
URL:https://tg-waldniel.de/event/fruehjahrsinstandsetzung/
LOCATION:TG Waldniel
END:VEVENT
BEGIN:VEVENT
DTSTART;TZID=Europe/Helsinki:20250412T130000
DTEND;TZID=Europe/Helsinki:20250412T173000
DTSTAMP:20260422T004007
CREATED:20250202T182212Z
LAST-MODIFIED:20250319T183820Z
UID:4801-1744462800-1744479000@tg-waldniel.de
SUMMARY:Saisoneröffnungs Turnier. (beim schlechten wetter Ostersamstag).
DESCRIPTION:Alternativ bei schlechtem Wetter: 19.04.2025.
URL:https://tg-waldniel.de/event/saisoneroeffnungs-turnier-ostersamstag/
LOCATION:TG Waldniel
END:VEVENT
BEGIN:VEVENT
DTSTART;TZID=Europe/Helsinki:20250417T080000
DTEND;TZID=Europe/Helsinki:20250417T170000
DTSTAMP:20260422T004007
CREATED:20250417T094100Z
LAST-MODIFIED:20250417T094100Z
UID:4955-1744876800-1744909200@tg-waldniel.de
SUMMARY:Medenspiel\, Außwärts Herren 65.
DESCRIPTION:Außwärts\, 10:00 Uhr: BW Bedburdyck – Herren 65.
URL:https://tg-waldniel.de/event/medenspiel-ausswaerts-herren-65/
END:VEVENT
BEGIN:VEVENT
DTSTART;TZID=Europe/Helsinki:20250426T140000
DTEND;TZID=Europe/Helsinki:20250426T193000
DTSTAMP:20260422T004007
CREATED:20250413T073835Z
LAST-MODIFIED:20250413T073835Z
UID:4919-1745676000-1745695800@tg-waldniel.de
SUMMARY:Freundschaftsspiel Herren 40 - Erkelenz.
DESCRIPTION:
URL:https://tg-waldniel.de/event/freundschaftsspiel-herren-40-erkelenz/
LOCATION:TG Waldniel 1953 e.V.
END:VEVENT
END:VCALENDAR