BEGIN:VCALENDAR
VERSION:2.0
PRODID:-// - ECPv6.15.20//NONSGML v1.0//EN
CALSCALE:GREGORIAN
METHOD:PUBLISH
X-ORIGINAL-URL:https://tg-waldniel.de
X-WR-CALDESC:Veranstaltungen für 
REFRESH-INTERVAL;VALUE=DURATION:PT1H
X-Robots-Tag:noindex
X-PUBLISHED-TTL:PT1H
BEGIN:VTIMEZONE
TZID:Europe/Helsinki
BEGIN:DAYLIGHT
TZOFFSETFROM:+0200
TZOFFSETTO:+0300
TZNAME:EEST
DTSTART:20230326T010000
END:DAYLIGHT
BEGIN:STANDARD
TZOFFSETFROM:+0300
TZOFFSETTO:+0200
TZNAME:EET
DTSTART:20231029T010000
END:STANDARD
BEGIN:DAYLIGHT
TZOFFSETFROM:+0200
TZOFFSETTO:+0300
TZNAME:EEST
DTSTART:20240331T010000
END:DAYLIGHT
BEGIN:STANDARD
TZOFFSETFROM:+0300
TZOFFSETTO:+0200
TZNAME:EET
DTSTART:20241027T010000
END:STANDARD
BEGIN:DAYLIGHT
TZOFFSETFROM:+0200
TZOFFSETTO:+0300
TZNAME:EEST
DTSTART:20250330T010000
END:DAYLIGHT
BEGIN:STANDARD
TZOFFSETFROM:+0300
TZOFFSETTO:+0200
TZNAME:EET
DTSTART:20251026T010000
END:STANDARD
END:VTIMEZONE
BEGIN:VEVENT
DTSTART;TZID=Europe/Helsinki:20241220T080000
DTEND;TZID=Europe/Helsinki:20241220T170000
DTSTAMP:20260422T072656
CREATED:20241221T195739Z
LAST-MODIFIED:20241221T195739Z
UID:4773-1734681600-1734714000@tg-waldniel.de
SUMMARY:Neujahrs Treffen 2025 mit Karaoke.
DESCRIPTION:Neujahrstreffen \nHallo\, am Freitag\, d. 3.1. möchte ich euch zum geselligen Karaokeabend mit Monique und Richard Feller einladen. \nLos geht es um 19 Uhr im Club. Diesmal ohne Essen aber wie üblich mit gepflegten Getränkenzu kleinen Preisen. \nBitte gebt eine kurze Rückmeldung wer dabei sein möchte. \nLG Helga Georg & Martin Paulányi
URL:https://tg-waldniel.de/event/neujahrs-treffen-2025-mit-karaoke/
END:VEVENT
END:VCALENDAR