BEGIN:VCALENDAR
VERSION:2.0
PRODID:-// - ECPv6.15.20//NONSGML v1.0//EN
CALSCALE:GREGORIAN
METHOD:PUBLISH
X-ORIGINAL-URL:https://tg-waldniel.de
X-WR-CALDESC:Veranstaltungen für 
REFRESH-INTERVAL;VALUE=DURATION:PT1H
X-Robots-Tag:noindex
X-PUBLISHED-TTL:PT1H
BEGIN:VTIMEZONE
TZID:Europe/Helsinki
BEGIN:DAYLIGHT
TZOFFSETFROM:+0200
TZOFFSETTO:+0300
TZNAME:EEST
DTSTART:20230326T010000
END:DAYLIGHT
BEGIN:STANDARD
TZOFFSETFROM:+0300
TZOFFSETTO:+0200
TZNAME:EET
DTSTART:20231029T010000
END:STANDARD
BEGIN:DAYLIGHT
TZOFFSETFROM:+0200
TZOFFSETTO:+0300
TZNAME:EEST
DTSTART:20240331T010000
END:DAYLIGHT
BEGIN:STANDARD
TZOFFSETFROM:+0300
TZOFFSETTO:+0200
TZNAME:EET
DTSTART:20241027T010000
END:STANDARD
BEGIN:DAYLIGHT
TZOFFSETFROM:+0200
TZOFFSETTO:+0300
TZNAME:EEST
DTSTART:20250330T010000
END:DAYLIGHT
BEGIN:STANDARD
TZOFFSETFROM:+0300
TZOFFSETTO:+0200
TZNAME:EET
DTSTART:20251026T010000
END:STANDARD
END:VTIMEZONE
BEGIN:VEVENT
DTSTART;TZID=Europe/Helsinki:20240812T080000
DTEND;TZID=Europe/Helsinki:20241012T200000
DTSTAMP:20260422T104351
CREATED:20240819T144412Z
LAST-MODIFIED:20240819T144412Z
UID:4587-1723449600-1728763200@tg-waldniel.de
SUMMARY:Clubmeisterschaften 2024
DESCRIPTION:
URL:https://tg-waldniel.de/event/clubmeisterschaften-2024/
LOCATION:TG Waldniel
END:VEVENT
BEGIN:VEVENT
DTSTART;TZID=Europe/Helsinki:20241012T110000
DTEND;TZID=Europe/Helsinki:20241012T220000
DTSTAMP:20260422T104351
CREATED:20240819T144559Z
LAST-MODIFIED:20240819T144559Z
UID:4589-1728730800-1728770400@tg-waldniel.de
SUMMARY:Herbstfest & Finale Clubmeisterschaften
DESCRIPTION:
URL:https://tg-waldniel.de/event/herbstfest-finale-clubmeisterschaften/
LOCATION:Vereinsheim TG-Waldniel 1953 e.V.\, Weiherstraße\, Schwalmtal/Waldniel.\, 41366\, Deutschland
END:VEVENT
BEGIN:VEVENT
DTSTART;TZID=Europe/Helsinki:20241024T100000
DTEND;TZID=Europe/Helsinki:20241024T140000
DTSTAMP:20260422T104351
CREATED:20241019T185512Z
LAST-MODIFIED:20241019T185521Z
UID:4764-1729764000-1729778400@tg-waldniel.de
SUMMARY:Herbstaktion Weidenschnitt.
DESCRIPTION:Am Donnerstag 24.10.2024 ab 10:00\, wollen wir die Weiden am Parkplatz TG Waldniel schneiden. Jede helfende Hand ist willkommen.
URL:https://tg-waldniel.de/event/herbstaktion-weidenschnitt/
LOCATION:TG Waldniel
END:VEVENT
BEGIN:VEVENT
DTSTART;TZID=Europe/Helsinki:20241025T150000
DTEND;TZID=Europe/Helsinki:20241025T180000
DTSTAMP:20260422T104351
CREATED:20241019T190349Z
LAST-MODIFIED:20241019T190349Z
UID:4766-1729868400-1729879200@tg-waldniel.de
SUMMARY:Unsere Tennisanlage winterfest machen.
DESCRIPTION:Am Freitag den 25.10 ab 15:00 Uhr und Samstag den 26.10 ab 10:00 Uhr.
URL:https://tg-waldniel.de/event/unsere-tennisanlage-winterfest-machen/
LOCATION:TG Waldniel
END:VEVENT
BEGIN:VEVENT
DTSTART;TZID=Europe/Helsinki:20241026T100000
DTEND;TZID=Europe/Helsinki:20241026T150000
DTSTAMP:20260422T104351
CREATED:20241019T190710Z
LAST-MODIFIED:20241019T190710Z
UID:4768-1729936800-1729954800@tg-waldniel.de
SUMMARY:Tennisanlage winterfest machen.
DESCRIPTION:Am Freitag den 25.10 ab 15:00 Uhr und Samstag den 26.10 ab 10:00 Uhr. Wir können jede helfende Hände gebrauchen.
URL:https://tg-waldniel.de/event/tennisanlage-winterfest-machen/
LOCATION:Vereinsheim TG-Waldniel 1953 e.V.\, Weiherstraße\, Schwalmtal/Waldniel.\, 41366\, Deutschland
END:VEVENT
END:VCALENDAR