BEGIN:VCALENDAR
VERSION:2.0
PRODID:-// - ECPv6.15.20//NONSGML v1.0//EN
CALSCALE:GREGORIAN
METHOD:PUBLISH
X-ORIGINAL-URL:https://tg-waldniel.de
X-WR-CALDESC:Veranstaltungen für 
REFRESH-INTERVAL;VALUE=DURATION:PT1H
X-Robots-Tag:noindex
X-PUBLISHED-TTL:PT1H
BEGIN:VTIMEZONE
TZID:Europe/Helsinki
BEGIN:DAYLIGHT
TZOFFSETFROM:+0200
TZOFFSETTO:+0300
TZNAME:EEST
DTSTART:20230326T010000
END:DAYLIGHT
BEGIN:STANDARD
TZOFFSETFROM:+0300
TZOFFSETTO:+0200
TZNAME:EET
DTSTART:20231029T010000
END:STANDARD
BEGIN:DAYLIGHT
TZOFFSETFROM:+0200
TZOFFSETTO:+0300
TZNAME:EEST
DTSTART:20240331T010000
END:DAYLIGHT
BEGIN:STANDARD
TZOFFSETFROM:+0300
TZOFFSETTO:+0200
TZNAME:EET
DTSTART:20241027T010000
END:STANDARD
BEGIN:DAYLIGHT
TZOFFSETFROM:+0200
TZOFFSETTO:+0300
TZNAME:EEST
DTSTART:20250330T010000
END:DAYLIGHT
BEGIN:STANDARD
TZOFFSETFROM:+0300
TZOFFSETTO:+0200
TZNAME:EET
DTSTART:20251026T010000
END:STANDARD
END:VTIMEZONE
BEGIN:VEVENT
DTSTART;TZID=Europe/Helsinki:20240706T080000
DTEND;TZID=Europe/Helsinki:20240707T190000
DTSTAMP:20260422T151119
CREATED:20240124T144156Z
LAST-MODIFIED:20240124T145857Z
UID:4147-1720252800-1720378800@tg-waldniel.de
SUMMARY:2e "Summer Holiday" LK Turnier.
DESCRIPTION:Turnier info´s unter denn folgende Link. \nhttps://spieler.tennis.de/web/guest/turniersuche?tournamentId=613070 \n 
URL:https://tg-waldniel.de/event/2e-summer-holiday-lk-turnier/
LOCATION:TG Waldniel
END:VEVENT
BEGIN:VEVENT
DTSTART;TZID=Europe/Helsinki:20240710T180000
DTEND;TZID=Europe/Helsinki:20240710T200000
DTSTAMP:20260422T151119
CREATED:20240708T125808Z
LAST-MODIFIED:20240708T125808Z
UID:4489-1720634400-1720641600@tg-waldniel.de
SUMMARY:Pokalspiel Offene Herren - DJK Kleinenbroich 2
DESCRIPTION:
URL:https://tg-waldniel.de/event/pokalspiel-offene-herren-djk-kleinenbroich-2/
LOCATION:TG Waldniel
END:VEVENT
BEGIN:VEVENT
DTSTART;TZID=Europe/Helsinki:20240720T140000
DTEND;TZID=Europe/Helsinki:20240720T200000
DTSTAMP:20260422T151119
CREATED:20240708T130629Z
LAST-MODIFIED:20240708T130629Z
UID:4495-1721484000-1721505600@tg-waldniel.de
SUMMARY:Mixed 40+ - BW Wickrath 1
DESCRIPTION:
URL:https://tg-waldniel.de/event/mixed-40-bw-wickrath-1/
LOCATION:TG Waldniel
END:VEVENT
BEGIN:VEVENT
DTSTART;TZID=Europe/Helsinki:20240726T160000
DTEND;TZID=Europe/Helsinki:20240726T183000
DTSTAMP:20260422T151119
CREATED:20240708T130328Z
LAST-MODIFIED:20240721T192045Z
UID:4493-1722009600-1722018600@tg-waldniel.de
SUMMARY:Pokalspiel Damen 50 - Gladbacher HTC 1
DESCRIPTION:
URL:https://tg-waldniel.de/event/pokalspiel-damen-50-gladbacher-htc-1/
LOCATION:TG Waldniel
END:VEVENT
BEGIN:VEVENT
DTSTART;TZID=Europe/Helsinki:20240728T180000
DTEND;TZID=Europe/Helsinki:20240728T200000
DTSTAMP:20260422T151119
CREATED:20240721T192244Z
LAST-MODIFIED:20240721T192244Z
UID:4515-1722189600-1722196800@tg-waldniel.de
SUMMARY:Pokalspiel Offene Herren TG Waldniel 1 - SC Bayer 05 TA 1
DESCRIPTION:
URL:https://tg-waldniel.de/event/pokalspiel-offene-herren-tg-waldniel-1-sc-bayer-05-ta-1/
LOCATION:TG Waldniel
END:VEVENT
END:VCALENDAR