BEGIN:VCALENDAR
VERSION:2.0
PRODID:-// - ECPv6.15.20//NONSGML v1.0//EN
CALSCALE:GREGORIAN
METHOD:PUBLISH
X-ORIGINAL-URL:https://tg-waldniel.de
X-WR-CALDESC:Veranstaltungen für 
REFRESH-INTERVAL;VALUE=DURATION:PT1H
X-Robots-Tag:noindex
X-PUBLISHED-TTL:PT1H
BEGIN:VTIMEZONE
TZID:Europe/Helsinki
BEGIN:DAYLIGHT
TZOFFSETFROM:+0200
TZOFFSETTO:+0300
TZNAME:EEST
DTSTART:20230326T010000
END:DAYLIGHT
BEGIN:STANDARD
TZOFFSETFROM:+0300
TZOFFSETTO:+0200
TZNAME:EET
DTSTART:20231029T010000
END:STANDARD
BEGIN:DAYLIGHT
TZOFFSETFROM:+0200
TZOFFSETTO:+0300
TZNAME:EEST
DTSTART:20240331T010000
END:DAYLIGHT
BEGIN:STANDARD
TZOFFSETFROM:+0300
TZOFFSETTO:+0200
TZNAME:EET
DTSTART:20241027T010000
END:STANDARD
BEGIN:DAYLIGHT
TZOFFSETFROM:+0200
TZOFFSETTO:+0300
TZNAME:EEST
DTSTART:20250330T010000
END:DAYLIGHT
BEGIN:STANDARD
TZOFFSETFROM:+0300
TZOFFSETTO:+0200
TZNAME:EET
DTSTART:20251026T010000
END:STANDARD
END:VTIMEZONE
BEGIN:VEVENT
DTSTART;TZID=Europe/Helsinki:20240504T140000
DTEND;TZID=Europe/Helsinki:20240504T200000
DTSTAMP:20260422T183849
CREATED:20240331T102350Z
LAST-MODIFIED:20240331T104739Z
UID:4316-1714831200-1714852800@tg-waldniel.de
SUMMARY:MEDENSPIELE.
DESCRIPTION:HEIM 14:00 Uhr :.        Damen 55 BKA (4er) – TC Weissenberg 1. \n                                                Damen 30 BKC           – TC Schiefbahn 1. \nAUSWÄRTS 14:00 Uhr:.    BW Veert 1     – Damen 50 BKA.       \n                                                       GW Geldern 1 – Herren 60 BKA.
URL:https://tg-waldniel.de/event/medenspiele/
END:VEVENT
BEGIN:VEVENT
DTSTART;TZID=Europe/Helsinki:20240505T090000
DTEND;TZID=Europe/Helsinki:20240505T143000
DTSTAMP:20260422T183849
CREATED:20240331T102806Z
LAST-MODIFIED:20240331T102806Z
UID:4319-1714899600-1714919400@tg-waldniel.de
SUMMARY:MEDENSPIELE.
DESCRIPTION:AUSWÄRTS 09:00 Uhr:.    DJK holzbüttgen 1   – Herren 50 BKC.       \n                                                    
URL:https://tg-waldniel.de/event/medenspiele-2/
END:VEVENT
BEGIN:VEVENT
DTSTART;TZID=Europe/Helsinki:20240507T100000
DTEND;TZID=Europe/Helsinki:20240507T140000
DTSTAMP:20260422T183849
CREATED:20240331T103105Z
LAST-MODIFIED:20240331T103105Z
UID:4321-1715076000-1715090400@tg-waldniel.de
SUMMARY:MEDENSPIEL.
DESCRIPTION:AUSWÄRTS 10:00 Uhr:.    TSV Ruhrfeld 2   –  Herren 65 (4er) BKC.       \n                                                      
URL:https://tg-waldniel.de/event/medenspiel/
END:VEVENT
BEGIN:VEVENT
DTSTART;TZID=Europe/Helsinki:20240507T170000
DTEND;TZID=Europe/Helsinki:20240507T200000
DTSTAMP:20260422T183849
CREATED:20240406T165413Z
LAST-MODIFIED:20240406T165413Z
UID:4382-1715101200-1715112000@tg-waldniel.de
SUMMARY:MEDENSPIEL
DESCRIPTION:AUSWÄRTS 17:00 Uhr.:   TC Willich 3     – Junioren U18 (4er) KL.   
URL:https://tg-waldniel.de/event/medenspiel-9/
END:VEVENT
BEGIN:VEVENT
DTSTART;TZID=Europe/Helsinki:20240511T080000
DTEND;TZID=Europe/Helsinki:20240511T200000
DTSTAMP:20260422T183849
CREATED:20240331T104329Z
LAST-MODIFIED:20240406T165720Z
UID:4323-1715414400-1715457600@tg-waldniel.de
SUMMARY:MEDENSPIELE.
DESCRIPTION:HEIM 09:00 Uhr.:   Junioren U15(4er) KL  – Dülkener TG 1. \n              14:oo Uhr.:    Damen 40 BKA   –  Korschenbroicher TC 1. \n                                          Damen 50 BKA   – GW St. Tönis 1. \nAUSWÄRTS 09:00 Uhr.:   TC Willich 3     – Junioren U18 (4er) KL. (Verlegt 17:00 Uhr 07.04.2024). \n                          14:00 Uhr.:     NTC Niederkrüchten  – Damen 55 (4er) BKA. \n                                                        SG Rheinkamp-Repelen – Herren 60 BKA.
URL:https://tg-waldniel.de/event/medenspiele-3/
END:VEVENT
BEGIN:VEVENT
DTSTART;TZID=Europe/Helsinki:20240512T090000
DTEND;TZID=Europe/Helsinki:20240512T140000
DTSTAMP:20260422T183849
CREATED:20240331T104659Z
LAST-MODIFIED:20240331T104659Z
UID:4325-1715504400-1715522400@tg-waldniel.de
SUMMARY:MEDENSPIELE.
DESCRIPTION:HEIM 09:00 Uhr :.        Heren 50 BKC – SW Holzheim 1.                                             \nAUSWÄRTS 09:00 Uhr:.    TG Brüggen   – Herren 40 BKD.       \n                                                      
URL:https://tg-waldniel.de/event/medenspiele-4/
END:VEVENT
BEGIN:VEVENT
DTSTART;TZID=Europe/Helsinki:20240514T100000
DTEND;TZID=Europe/Helsinki:20240514T140000
DTSTAMP:20260422T183849
CREATED:20240331T105126Z
LAST-MODIFIED:20240331T105202Z
UID:4328-1715680800-1715695200@tg-waldniel.de
SUMMARY:MEDENSPIEL.
DESCRIPTION:HEIM 10:00 Uhr :.    Heren 65 BKC (4er) – TC Hardt 1. \n                                          
URL:https://tg-waldniel.de/event/medenspiel-2/
END:VEVENT
BEGIN:VEVENT
DTSTART;TZID=Europe/Helsinki:20240521T100000
DTEND;TZID=Europe/Helsinki:20240521T143000
DTSTAMP:20260422T183849
CREATED:20240331T105349Z
LAST-MODIFIED:20240331T120326Z
UID:4331-1716285600-1716301800@tg-waldniel.de
SUMMARY:MEDENSPIEL.
DESCRIPTION:AUSWÄRTS 10:00 Uhr.:    Neusser TC Stadtwald  – Heren 65 BKC.       \n                                                
URL:https://tg-waldniel.de/event/medenspiel-3/
END:VEVENT
BEGIN:VEVENT
DTSTART;TZID=Europe/Helsinki:20240525T090000
DTEND;TZID=Europe/Helsinki:20240525T200000
DTSTAMP:20260422T183849
CREATED:20240331T110418Z
LAST-MODIFIED:20240331T110418Z
UID:4335-1716627600-1716667200@tg-waldniel.de
SUMMARY:MEDENSPIELE.
DESCRIPTION:HEIM 09:00 Uhr:.        Junioren U15 KL – TG Willich 2. \n                                               Junioren U18 KL – Dülkener TC 1. \n              14:00 Uhr:.        Herren 60 BKA   – TC Stadtpark Fischeln 1. \n                                               Damen 50 BKA   – Neersener TB 1.    \nAUSWÄRTS 14:00 Uhr:.    BW Veert 1     – Damen 50 BKA.       \n                                                       GW Geldern 1 – Herren 60 BKA.
URL:https://tg-waldniel.de/event/medenspiele-5/
END:VEVENT
BEGIN:VEVENT
DTSTART;TZID=Europe/Helsinki:20240526T090000
DTEND;TZID=Europe/Helsinki:20240526T140000
DTSTAMP:20260422T183849
CREATED:20240331T110801Z
LAST-MODIFIED:20240331T110801Z
UID:4337-1716714000-1716732000@tg-waldniel.de
SUMMARY:MEDENSPIELE.
DESCRIPTION:HEIM 09:00 Uhr:.        Herren 50 BKC  – TG RW MG 3. \n                                               JHerren 40 BKD – GW St. Tönis 1.. \nAUSWÄRTS 09:00 Uhr:.   Dülkener TC – offene Herren BKD.       \n                                                     
URL:https://tg-waldniel.de/event/medenspiele-6/
END:VEVENT
BEGIN:VEVENT
DTSTART;TZID=Europe/Helsinki:20240528T100000
DTEND;TZID=Europe/Helsinki:20240528T153000
DTSTAMP:20260422T183849
CREATED:20240331T111001Z
LAST-MODIFIED:20240331T111001Z
UID:4339-1716890400-1716910200@tg-waldniel.de
SUMMARY:MEDENSPIEL.
DESCRIPTION:HEIM 10:00 Uhr:.  Herren 65 (4er) BKC   –  Neersener TB 1.  \n                                                \n 
URL:https://tg-waldniel.de/event/medenspiel-5/
END:VEVENT
END:VCALENDAR