BEGIN:VCALENDAR
VERSION:2.0
PRODID:-// - ECPv6.15.20//NONSGML v1.0//EN
CALSCALE:GREGORIAN
METHOD:PUBLISH
X-ORIGINAL-URL:https://tg-waldniel.de
X-WR-CALDESC:Veranstaltungen für 
REFRESH-INTERVAL;VALUE=DURATION:PT1H
X-Robots-Tag:noindex
X-PUBLISHED-TTL:PT1H
BEGIN:VTIMEZONE
TZID:Europe/Helsinki
BEGIN:DAYLIGHT
TZOFFSETFROM:+0200
TZOFFSETTO:+0300
TZNAME:EEST
DTSTART:20230326T010000
END:DAYLIGHT
BEGIN:STANDARD
TZOFFSETFROM:+0300
TZOFFSETTO:+0200
TZNAME:EET
DTSTART:20231029T010000
END:STANDARD
BEGIN:DAYLIGHT
TZOFFSETFROM:+0200
TZOFFSETTO:+0300
TZNAME:EEST
DTSTART:20240331T010000
END:DAYLIGHT
BEGIN:STANDARD
TZOFFSETFROM:+0300
TZOFFSETTO:+0200
TZNAME:EET
DTSTART:20241027T010000
END:STANDARD
BEGIN:DAYLIGHT
TZOFFSETFROM:+0200
TZOFFSETTO:+0300
TZNAME:EEST
DTSTART:20250330T010000
END:DAYLIGHT
BEGIN:STANDARD
TZOFFSETFROM:+0300
TZOFFSETTO:+0200
TZNAME:EET
DTSTART:20251026T010000
END:STANDARD
END:VTIMEZONE
BEGIN:VEVENT
DTSTART;TZID=Europe/Helsinki:20240405T160000
DTEND;TZID=Europe/Helsinki:20240405T200000
DTSTAMP:20260424T130734
CREATED:20240329T113804Z
LAST-MODIFIED:20240329T114117Z
UID:4306-1712332800-1712347200@tg-waldniel.de
SUMMARY:Frühjahrspütz.
DESCRIPTION:TO DO LISTE\, HÄNGT AM CLUBHEIM.
URL:https://tg-waldniel.de/event/fruehjahrspuetz/
LOCATION:TG Waldniel
END:VEVENT
BEGIN:VEVENT
DTSTART;TZID=Europe/Helsinki:20240406T100000
DTEND;TZID=Europe/Helsinki:20240406T140000
DTSTAMP:20260424T130734
CREATED:20240329T113916Z
LAST-MODIFIED:20240329T114025Z
UID:4309-1712397600-1712412000@tg-waldniel.de
SUMMARY:Frühjahrspütz.
DESCRIPTION:TO DO LISTE\, HÄNGT AM CLUBHEIM.
URL:https://tg-waldniel.de/event/fruehjahrspuetz-2/
LOCATION:Vereinsheim TG-Waldniel 1953 e.V.\, Weiherstraße\, Schwalmtal/Waldniel.\, 41366\, Deutschland
END:VEVENT
BEGIN:VEVENT
DTSTART;TZID=Europe/Helsinki:20240420T130000
DTEND;TZID=Europe/Helsinki:20240420T180000
DTSTAMP:20260424T130734
CREATED:20240308T080052Z
LAST-MODIFIED:20240308T080524Z
UID:4179-1713618000-1713636000@tg-waldniel.de
SUMMARY:Freundschaftsspiel Damen 30 gegner Kerkener TC.
DESCRIPTION:
URL:https://tg-waldniel.de/event/freunschafstspiel-damen-30-gegen-kerkener-tc/
LOCATION:TG Waldniel
ATTACH;FMTTYPE=image/jpeg:https://tg-waldniel.de/wp-content/uploads/2023/05/Damen-30-scaled.jpg
END:VEVENT
BEGIN:VEVENT
DTSTART;TZID=Europe/Helsinki:20240421T130000
DTEND;TZID=Europe/Helsinki:20240421T180000
DTSTAMP:20260424T130734
CREATED:20240329T170549Z
LAST-MODIFIED:20240329T170650Z
UID:4313-1713704400-1713722400@tg-waldniel.de
SUMMARY:Zur Saison Opening "SCHLÜFFKES TURNIER".
DESCRIPTION:Zur Saison Opening organisiert auch im diesem Jahr die TG Waldniel ihr „Schlüffkes Turnier. \nDieses ist ein offenes Hobby Doppel/Mix  Turnier für Jung und Alt\, Mitglied oder nicht\, jeder ist herzlich willkommen. Spass am Tennis steht im Vordergrund. \nDie Organisation ist in den Händen von Helga Georg und Linda Tervooren. \nBeginn um 13:00 Uhr an.
URL:https://tg-waldniel.de/event/zur-saison-opening-schlueffkes-turnier/
LOCATION:TG Waldniel
END:VEVENT
BEGIN:VEVENT
DTSTART;TZID=Europe/Helsinki:20240427T140000
DTEND;TZID=Europe/Helsinki:20240427T200000
DTSTAMP:20260424T130734
CREATED:20240331T105729Z
LAST-MODIFIED:20240331T105729Z
UID:4333-1714226400-1714248000@tg-waldniel.de
SUMMARY:MEDENSPIEL.
DESCRIPTION:HEIM 14:00 Uhr. :  0ffene Herren BKD – TG Willich 1. \n                                            
URL:https://tg-waldniel.de/event/medenspiel-4/
END:VEVENT
END:VCALENDAR