BEGIN:VCALENDAR
VERSION:2.0
PRODID:-// - ECPv6.15.20//NONSGML v1.0//EN
CALSCALE:GREGORIAN
METHOD:PUBLISH
X-ORIGINAL-URL:https://tg-waldniel.de
X-WR-CALDESC:Veranstaltungen für 
REFRESH-INTERVAL;VALUE=DURATION:PT1H
X-Robots-Tag:noindex
X-PUBLISHED-TTL:PT1H
BEGIN:VTIMEZONE
TZID:Europe/Helsinki
BEGIN:DAYLIGHT
TZOFFSETFROM:+0200
TZOFFSETTO:+0300
TZNAME:EEST
DTSTART:20220327T010000
END:DAYLIGHT
BEGIN:STANDARD
TZOFFSETFROM:+0300
TZOFFSETTO:+0200
TZNAME:EET
DTSTART:20221030T010000
END:STANDARD
BEGIN:DAYLIGHT
TZOFFSETFROM:+0200
TZOFFSETTO:+0300
TZNAME:EEST
DTSTART:20230326T010000
END:DAYLIGHT
BEGIN:STANDARD
TZOFFSETFROM:+0300
TZOFFSETTO:+0200
TZNAME:EET
DTSTART:20231029T010000
END:STANDARD
BEGIN:DAYLIGHT
TZOFFSETFROM:+0200
TZOFFSETTO:+0300
TZNAME:EEST
DTSTART:20240331T010000
END:DAYLIGHT
BEGIN:STANDARD
TZOFFSETFROM:+0300
TZOFFSETTO:+0200
TZNAME:EET
DTSTART:20241027T010000
END:STANDARD
END:VTIMEZONE
BEGIN:VEVENT
DTSTART;TZID=Europe/Helsinki:20230805T140000
DTEND;TZID=Europe/Helsinki:20230805T230000
DTSTAMP:20260425T014636
CREATED:20230312T161510Z
LAST-MODIFIED:20230511T040005Z
UID:3434-1691244000-1691276400@tg-waldniel.de
SUMMARY:70-Jahr-Jubiläumsfeier.
DESCRIPTION:
URL:https://tg-waldniel.de/event/70-jahr-jubilaeumsfeier/
LOCATION:Vereinsheim TG-Waldniel 1953 e.V.\, Weiherstraße\, Schwalmtal/Waldniel.\, 41366\, Deutschland
END:VEVENT
BEGIN:VEVENT
DTSTART;TZID=Europe/Helsinki:20230809T180000
DTEND;TZID=Europe/Helsinki:20230809T203000
DTSTAMP:20260425T014636
CREATED:20230729T075444Z
LAST-MODIFIED:20230729T075444Z
UID:3886-1691604000-1691613000@tg-waldniel.de
SUMMARY:Pokalspiel Herren 50 TG Waldniel - GWG Krefeld
DESCRIPTION:
URL:https://tg-waldniel.de/event/pokalspiel-herren-50-tg-waldniel-gwg-krefeld/
LOCATION:TG Waldniel
ATTACH;FMTTYPE=image/jpeg:https://tg-waldniel.de/wp-content/uploads/2022/08/IMG_2434-2-scaled.jpg
END:VEVENT
BEGIN:VEVENT
DTSTART;TZID=Europe/Helsinki:20230812T080000
DTEND;TZID=Europe/Helsinki:20231001T213000
DTSTAMP:20260425T014636
CREATED:20230619T194255Z
LAST-MODIFIED:20230731T065055Z
UID:3795-1691827200-1696195800@tg-waldniel.de
SUMMARY:Clubmeisterschaften TG Waldniel 1953 e.V..
DESCRIPTION:
URL:https://tg-waldniel.de/event/clubmeisterschaften-tg-waldniel-1953-e-v/
LOCATION:TG Waldniel
ATTACH;FMTTYPE=image/jpeg:https://tg-waldniel.de/wp-content/uploads/2023/06/Clubmeisterschaft-2023-scaled.jpg
END:VEVENT
BEGIN:VEVENT
DTSTART;TZID=Europe/Helsinki:20230812T090000
DTEND;TZID=Europe/Helsinki:20230812T143000
DTSTAMP:20260425T014636
CREATED:20230729T073055Z
LAST-MODIFIED:20230729T073155Z
UID:3871-1691830800-1691850600@tg-waldniel.de
SUMMARY:Medenspiel Damen 40 TG Waldniel 1 -TG RW MG 1
DESCRIPTION:
URL:https://tg-waldniel.de/event/medenspiel-damen-40-tg-waldniel-1-tg-rw-mg-1/
LOCATION:TG Waldniel
ATTACH;FMTTYPE=image/jpeg:https://tg-waldniel.de/wp-content/uploads/2023/04/Damen-40-neu.jpg
END:VEVENT
BEGIN:VEVENT
DTSTART;TZID=Europe/Helsinki:20230812T140000
DTEND;TZID=Europe/Helsinki:20230812T203000
DTSTAMP:20260425T014636
CREATED:20230729T073353Z
LAST-MODIFIED:20230729T073458Z
UID:3873-1691848800-1691872200@tg-waldniel.de
SUMMARY:Medenspiel Damen 30 TG Waldniel 1 -  Krefelder TG 2
DESCRIPTION:
URL:https://tg-waldniel.de/event/sa-12-08-2023-1400-d30bkd-tg-waldniel-1-krefelder-tg-2/
LOCATION:TG Waldniel
ATTACH;FMTTYPE=image/jpeg:https://tg-waldniel.de/wp-content/uploads/2023/05/Damen-30-scaled.jpg
END:VEVENT
BEGIN:VEVENT
DTSTART;TZID=Europe/Helsinki:20230816T180000
DTEND;TZID=Europe/Helsinki:20230816T203000
DTSTAMP:20260425T014636
CREATED:20230729T075300Z
LAST-MODIFIED:20230729T075300Z
UID:3884-1692208800-1692217800@tg-waldniel.de
SUMMARY:Pokalspiel Damen 50 TG Waldniel - TC Traar I
DESCRIPTION:
URL:https://tg-waldniel.de/event/pokalspiel-damen-50-tg-waldniel-tc-traar-i/
LOCATION:TG Waldniel
ATTACH;FMTTYPE=image/jpeg:https://tg-waldniel.de/wp-content/uploads/2023/05/Damen-50.1jpg.jpg
END:VEVENT
BEGIN:VEVENT
DTSTART;TZID=Europe/Helsinki:20230819T140000
DTEND;TZID=Europe/Helsinki:20230819T203000
DTSTAMP:20260425T014636
CREATED:20230729T073852Z
LAST-MODIFIED:20230729T073852Z
UID:3876-1692453600-1692477000@tg-waldniel.de
SUMMARY:Medenspiel Herren 50  TG Waldniel 1 - TC Hardt 1.
DESCRIPTION:
URL:https://tg-waldniel.de/event/medenspiel-herren-50-tg-waldniel-1-tc-hardt-1/
ATTACH;FMTTYPE=image/jpeg:https://tg-waldniel.de/wp-content/uploads/2023/03/Herren-50.jpg
END:VEVENT
BEGIN:VEVENT
DTSTART;TZID=Europe/Helsinki:20230819T140000
DTEND;TZID=Europe/Helsinki:20230819T203000
DTSTAMP:20260425T014636
CREATED:20230729T075034Z
LAST-MODIFIED:20230729T075034Z
UID:3882-1692453600-1692477000@tg-waldniel.de
SUMMARY:Medenspiel Damen 40 	TG Waldniel 1  -TC Rheindahlen 1
DESCRIPTION:
URL:https://tg-waldniel.de/event/medenspiel-damen-40-tg-waldniel-1-tc-rheindahlen-1/
LOCATION:TG Waldniel
ATTACH;FMTTYPE=image/jpeg:https://tg-waldniel.de/wp-content/uploads/2023/04/Damen-40-neu.jpg
END:VEVENT
BEGIN:VEVENT
DTSTART;TZID=Europe/Helsinki:20230820T090000
DTEND;TZID=Europe/Helsinki:20230820T203000
DTSTAMP:20260425T014636
CREATED:20230729T074341Z
LAST-MODIFIED:20230729T074341Z
UID:3880-1692522000-1692563400@tg-waldniel.de
SUMMARY:Medenspiel Herren 40  TG Waldniel 1 - Elmpter TC 2
DESCRIPTION:
URL:https://tg-waldniel.de/event/medenspiel-herren-40-tg-waldniel-1-elmpter-tc-2/
LOCATION:TG Waldniel
ATTACH;FMTTYPE=image/jpeg:https://tg-waldniel.de/wp-content/uploads/2022/05/Herren-40.2.jpg
END:VEVENT
BEGIN:VEVENT
DTSTART;TZID=Europe/Helsinki:20230825T180000
DTEND;TZID=Europe/Helsinki:20230825T203000
DTSTAMP:20260425T014636
CREATED:20230824T151009Z
LAST-MODIFIED:20230824T151009Z
UID:4044-1692986400-1692995400@tg-waldniel.de
SUMMARY:Pokalspiel Halb Finale Damen 50/1 - St. Tönis 1.
DESCRIPTION:
URL:https://tg-waldniel.de/event/pokalspiel-halb-finale-damen-50-1-st-toenis-1/
LOCATION:TG Waldniel
END:VEVENT
END:VCALENDAR