BEGIN:VCALENDAR
VERSION:2.0
PRODID:-// - ECPv6.15.20//NONSGML v1.0//EN
CALSCALE:GREGORIAN
METHOD:PUBLISH
X-ORIGINAL-URL:https://tg-waldniel.de
X-WR-CALDESC:Veranstaltungen für 
REFRESH-INTERVAL;VALUE=DURATION:PT1H
X-Robots-Tag:noindex
X-PUBLISHED-TTL:PT1H
BEGIN:VTIMEZONE
TZID:Europe/Helsinki
BEGIN:DAYLIGHT
TZOFFSETFROM:+0200
TZOFFSETTO:+0300
TZNAME:EEST
DTSTART:20220327T010000
END:DAYLIGHT
BEGIN:STANDARD
TZOFFSETFROM:+0300
TZOFFSETTO:+0200
TZNAME:EET
DTSTART:20221030T010000
END:STANDARD
BEGIN:DAYLIGHT
TZOFFSETFROM:+0200
TZOFFSETTO:+0300
TZNAME:EEST
DTSTART:20230326T010000
END:DAYLIGHT
BEGIN:STANDARD
TZOFFSETFROM:+0300
TZOFFSETTO:+0200
TZNAME:EET
DTSTART:20231029T010000
END:STANDARD
BEGIN:DAYLIGHT
TZOFFSETFROM:+0200
TZOFFSETTO:+0300
TZNAME:EEST
DTSTART:20240331T010000
END:DAYLIGHT
BEGIN:STANDARD
TZOFFSETFROM:+0300
TZOFFSETTO:+0200
TZNAME:EET
DTSTART:20241027T010000
END:STANDARD
END:VTIMEZONE
BEGIN:VEVENT
DTSTART;TZID=Europe/Helsinki:20230603T140000
DTEND;TZID=Europe/Helsinki:20230603T193000
DTSTAMP:20260425T050316
CREATED:20230529T065928Z
LAST-MODIFIED:20230529T065942Z
UID:3705-1685800800-1685820600@tg-waldniel.de
SUMMARY:Medenspiele Herren 60 - BW Bedburdyk 1.// Damen 50/2 - RW Grevenbroich 1.
DESCRIPTION:Medenspiel Herren 60 – BW Bedburdyk 1. \nPlätze 1 bis 3. \nMedenspiel Damen 50/2 – RW Grevenbroich 1. \nPlätze 4 und 5.
URL:https://tg-waldniel.de/event/medenspiele-herren-60-bw-bedburdyk-1-damen-50-2-rw-grevenbroich-1/
LOCATION:TG Waldniel
END:VEVENT
BEGIN:VEVENT
DTSTART;TZID=Europe/Helsinki:20230604T090000
DTEND;TZID=Europe/Helsinki:20230604T153000
DTSTAMP:20260425T050316
CREATED:20230529T070201Z
LAST-MODIFIED:20230529T070201Z
UID:3707-1685869200-1685892600@tg-waldniel.de
SUMMARY:Medenspiel Damen 30 - Dülkener TC 1.
DESCRIPTION:Medenspiel Damen 30 – Dülkener TC 1. \nPlätze 1 bis 3.
URL:https://tg-waldniel.de/event/medenspiel-damen-30-duelkener-tc-1/
LOCATION:TG Waldniel
END:VEVENT
BEGIN:VEVENT
DTSTART;TZID=Europe/Helsinki:20230605T190000
DTEND;TZID=Europe/Helsinki:20230605T203000
DTSTAMP:20260425T050316
CREATED:20230409T061943Z
LAST-MODIFIED:20230409T061943Z
UID:3501-1685991600-1685997000@tg-waldniel.de
SUMMARY:Reanimationskurs!
DESCRIPTION:Die Leitung des Kurses übernimmt Chris Niakaros. \nAm Clubhaus hängt eine Anmeldeliste\, wo man sich eintragen kann.
URL:https://tg-waldniel.de/event/reanimationskurs/
LOCATION:Vereinsheim TG-Waldniel 1953 e.V.\, Weiherstraße\, Schwalmtal/Waldniel.\, 41366\, Deutschland
END:VEVENT
BEGIN:VEVENT
DTSTART;TZID=Europe/Helsinki:20230610T140000
DTEND;TZID=Europe/Helsinki:20230610T193000
DTSTAMP:20260425T050316
CREATED:20230606T161706Z
LAST-MODIFIED:20230606T161706Z
UID:3738-1686405600-1686425400@tg-waldniel.de
SUMMARY:Medenspiel\, H50BKC. TG Waldniel 1 - TSV Kaldenkirchen 1 und H60BKA TG Waldniel 1 - TG BW Meer 1
DESCRIPTION:Sa.\n10.06.2023 14:00\n \nH50BKC      \n TG Waldniel 1 –  \n TSV Kaldenkirchen 1 \n \n \n \noffen \n\n\n \n \n \nH60BKA\n TG Waldniel 1  – \n TG BW Meer 1 \n 
URL:https://tg-waldniel.de/event/medenspiel-h50bkc-tg-waldniel-1-tsv-kaldenkirchen-1-und-h60bka-tg-waldniel-1-tg-bw-meer-1/
LOCATION:TG Waldniel
END:VEVENT
BEGIN:VEVENT
DTSTART;TZID=Europe/Helsinki:20230611T090000
DTEND;TZID=Europe/Helsinki:20230611T160000
DTSTAMP:20260425T050316
CREATED:20230606T162035Z
LAST-MODIFIED:20230606T162035Z
UID:3740-1686474000-1686499200@tg-waldniel.de
SUMMARY:Medenspiel\, D50BKA4 TG Waldniel 2 - Uedemer TC 1 und H00BKE 	TG Waldniel 1 - TG Brüggen 2
DESCRIPTION:So.\n11.06.2023 09:00\n \n   D50BKA4\n    TG Waldniel 2 \n  – Uedemer TC 1 \n \n \n \n \n\n\n \n \n \n  H00BKE      \n    TG Waldniel 1 \n  – TG Brüggen 2 \n \n \n \n 
URL:https://tg-waldniel.de/event/medenspiel-d50bka4-tg-waldniel-2-uedemer-tc-1-und-h00bke-tg-waldniel-1-tg-brueggen-2/
LOCATION:TG Waldniel
END:VEVENT
BEGIN:VEVENT
DTSTART;TZID=Europe/Helsinki:20230612T163000
DTEND;TZID=Europe/Helsinki:20230612T200000
DTSTAMP:20260425T050316
CREATED:20230606T162240Z
LAST-MODIFIED:20230606T162240Z
UID:3743-1686587400-1686600000@tg-waldniel.de
SUMMARY:Jugendmedenspiel U 15\, TG Waldniel - Schiefbahn.
DESCRIPTION:
URL:https://tg-waldniel.de/event/jugendmedenspiel-u-15-tg-waldniel-schiefbahn/
LOCATION:TG Waldniel
END:VEVENT
BEGIN:VEVENT
DTSTART;TZID=Europe/Helsinki:20230617T140000
DTEND;TZID=Europe/Helsinki:20230617T193000
DTSTAMP:20260425T050316
CREATED:20230615T035134Z
LAST-MODIFIED:20230615T035134Z
UID:3785-1687010400-1687030200@tg-waldniel.de
SUMMARY:Medenspiel Herren 60 BKA 	TG Waldniel 1 - TC Neuwerk e.V. 1
DESCRIPTION:
URL:https://tg-waldniel.de/event/medenspiel-herren-60-bka-tg-waldniel-1-tc-neuwerk-e-v-1/
LOCATION:TG Waldniel
END:VEVENT
BEGIN:VEVENT
DTSTART;TZID=Europe/Helsinki:20230618T090000
DTEND;TZID=Europe/Helsinki:20230618T153000
DTSTAMP:20260425T050316
CREATED:20230615T035554Z
LAST-MODIFIED:20230615T035554Z
UID:3787-1687078800-1687102200@tg-waldniel.de
SUMMARY:Medenspiel Offene Herren BKE 	TG Waldniel 1 - TSV Kaldenkirchen 1\, Herren 40 BKD  TG Waldniel 1 - TG Brüggen 1
DESCRIPTION: \nOffene Herren BKE\n  TG Waldniel 1  \n–  TSV Kaldenkirchen 1 \n \n\n\n\n Plätze 4\, 5 und 6. \n\n\n\n \nHerren 40         BKD\n  TG Waldniel 1 \n  – TG Brüggen 1 \n\n\n\nPlätze 1\, 2 und 3.
URL:https://tg-waldniel.de/event/medenspiel-offene-herren-bke-tg-waldniel-1-tsv-kaldenkirchen-1-herren-40-bkd-tg-waldniel-1-tg-brueggen-1/
LOCATION:TG Waldniel
END:VEVENT
BEGIN:VEVENT
DTSTART;VALUE=DATE:20230624
DTEND;VALUE=DATE:20230626
DTSTAMP:20260425T050316
CREATED:20230303T191023Z
LAST-MODIFIED:20230505T075704Z
UID:3412-1687564800-1687737599@tg-waldniel.de
SUMMARY:1e Waldnieler"Summer Holiday" LK Turnier.
DESCRIPTION:Hier geht es zur Anmeldung.\n \n 
URL:https://tg-waldniel.de/event/1e-waldnielersummer-holiday-lk-turnier/
LOCATION:TG Waldniel
ATTACH;FMTTYPE=image/jpeg:https://tg-waldniel.de/wp-content/uploads/2023/03/Martin-2.jpg
END:VEVENT
END:VCALENDAR