BEGIN:VCALENDAR
VERSION:2.0
PRODID:-// - ECPv6.15.20//NONSGML v1.0//EN
CALSCALE:GREGORIAN
METHOD:PUBLISH
X-ORIGINAL-URL:https://tg-waldniel.de
X-WR-CALDESC:Veranstaltungen für 
REFRESH-INTERVAL;VALUE=DURATION:PT1H
X-Robots-Tag:noindex
X-PUBLISHED-TTL:PT1H
BEGIN:VTIMEZONE
TZID:Europe/Helsinki
BEGIN:DAYLIGHT
TZOFFSETFROM:+0200
TZOFFSETTO:+0300
TZNAME:EEST
DTSTART:20220327T010000
END:DAYLIGHT
BEGIN:STANDARD
TZOFFSETFROM:+0300
TZOFFSETTO:+0200
TZNAME:EET
DTSTART:20221030T010000
END:STANDARD
BEGIN:DAYLIGHT
TZOFFSETFROM:+0200
TZOFFSETTO:+0300
TZNAME:EEST
DTSTART:20230326T010000
END:DAYLIGHT
BEGIN:STANDARD
TZOFFSETFROM:+0300
TZOFFSETTO:+0200
TZNAME:EET
DTSTART:20231029T010000
END:STANDARD
BEGIN:DAYLIGHT
TZOFFSETFROM:+0200
TZOFFSETTO:+0300
TZNAME:EEST
DTSTART:20240331T010000
END:DAYLIGHT
BEGIN:STANDARD
TZOFFSETFROM:+0300
TZOFFSETTO:+0200
TZNAME:EET
DTSTART:20241027T010000
END:STANDARD
END:VTIMEZONE
BEGIN:VEVENT
DTSTART;TZID=Europe/Helsinki:20230520T140000
DTEND;TZID=Europe/Helsinki:20230520T203000
DTSTAMP:20260425T065227
CREATED:20230519T070622Z
LAST-MODIFIED:20230519T070622Z
UID:3641-1684591200-1684614600@tg-waldniel.de
SUMMARY:Medenspieltag.: Damen 50/1 - HTC SW Neuss 1\, Herren 50 - Dülkener TC 2
DESCRIPTION:
URL:https://tg-waldniel.de/event/medenspieltag-damen-50-1-htc-sw-neuss-1-herren-50-duelkener-tc-2/
LOCATION:TG Waldniel
END:VEVENT
BEGIN:VEVENT
DTSTART;TZID=Europe/Helsinki:20230521T090000
DTEND;TZID=Europe/Helsinki:20230521T143000
DTSTAMP:20260425T065227
CREATED:20230519T070902Z
LAST-MODIFIED:20230519T070902Z
UID:3644-1684659600-1684679400@tg-waldniel.de
SUMMARY:Medenspieltag Damen 40 - Odenkirchener TC 1\,  Damen 50/2 - TC Traar 2.
DESCRIPTION:
URL:https://tg-waldniel.de/event/medenspieltag-damen-40-odenkirchener-tc-1-damen-50-2-tc-traar-2/
LOCATION:TG Waldniel
END:VEVENT
END:VCALENDAR