BEGIN:VCALENDAR
VERSION:2.0
PRODID:-// - ECPv6.15.20//NONSGML v1.0//EN
CALSCALE:GREGORIAN
METHOD:PUBLISH
X-ORIGINAL-URL:https://tg-waldniel.de
X-WR-CALDESC:Veranstaltungen für 
REFRESH-INTERVAL;VALUE=DURATION:PT1H
X-Robots-Tag:noindex
X-PUBLISHED-TTL:PT1H
BEGIN:VTIMEZONE
TZID:Europe/Helsinki
BEGIN:DAYLIGHT
TZOFFSETFROM:+0200
TZOFFSETTO:+0300
TZNAME:EEST
DTSTART:20210328T010000
END:DAYLIGHT
BEGIN:STANDARD
TZOFFSETFROM:+0300
TZOFFSETTO:+0200
TZNAME:EET
DTSTART:20211031T010000
END:STANDARD
BEGIN:DAYLIGHT
TZOFFSETFROM:+0200
TZOFFSETTO:+0300
TZNAME:EEST
DTSTART:20220327T010000
END:DAYLIGHT
BEGIN:STANDARD
TZOFFSETFROM:+0300
TZOFFSETTO:+0200
TZNAME:EET
DTSTART:20221030T010000
END:STANDARD
BEGIN:DAYLIGHT
TZOFFSETFROM:+0200
TZOFFSETTO:+0300
TZNAME:EEST
DTSTART:20230326T010000
END:DAYLIGHT
BEGIN:STANDARD
TZOFFSETFROM:+0300
TZOFFSETTO:+0200
TZNAME:EET
DTSTART:20231029T010000
END:STANDARD
END:VTIMEZONE
BEGIN:VEVENT
DTSTART;TZID=Europe/Helsinki:20220803T180000
DTEND;TZID=Europe/Helsinki:20220803T203000
DTSTAMP:20260425T213245
CREATED:20220718T165754Z
LAST-MODIFIED:20220718T165754Z
UID:3255-1659549600-1659558600@tg-waldniel.de
SUMMARY:Pokalspiel Herren 50 - TC Rot Weiß Mönchengladbach.
DESCRIPTION:
URL:https://tg-waldniel.de/event/pokalspiel-herren-50-tc-rot-weiss-moenchengladbach/
LOCATION:TG Waldniel
END:VEVENT
BEGIN:VEVENT
DTSTART;TZID=Europe/Helsinki:20220804T120000
DTEND;TZID=Europe/Helsinki:20220804T190000
DTSTAMP:20260425T213245
CREATED:20220718T164937Z
LAST-MODIFIED:20220724T040022Z
UID:3249-1659614400-1659639600@tg-waldniel.de
SUMMARY:Freundschafts treffen mit Tennisverein NIP Roermond.
DESCRIPTION:Der befreundete Tennisverein aus den Niederlanden kommt dieses Jahr als Gast auf unsere Anlage. \nInfo´s folgen in den nächsten Wochen.
URL:https://tg-waldniel.de/event/freundschafts-treffen-mit-tennisverein-nip-roermond/
LOCATION:TG Waldniel
END:VEVENT
BEGIN:VEVENT
DTSTART;VALUE=DATE:20220806
DTEND;VALUE=DATE:20220807
DTSTAMP:20260425T213245
CREATED:20220718T164641Z
LAST-MODIFIED:20220718T164641Z
UID:3247-1659744000-1659830399@tg-waldniel.de
SUMMARY:Jugend-Ausflug 2022.
DESCRIPTION:Hier  wird auf der Niers gepaddelt und anschließend gegrillt
URL:https://tg-waldniel.de/event/jugend-ausflug-2022/
END:VEVENT
BEGIN:VEVENT
DTSTART;TZID=Europe/Helsinki:20220810T180000
DTEND;TZID=Europe/Helsinki:20220810T203000
DTSTAMP:20260425T213245
CREATED:20220718T165338Z
LAST-MODIFIED:20220718T165403Z
UID:3253-1660154400-1660163400@tg-waldniel.de
SUMMARY:Pokalspiel Damen 50 gegen TC Traar.
DESCRIPTION:
URL:https://tg-waldniel.de/event/pokalspiel-damen-50-gegen-tc-traar/
LOCATION:TG Waldniel
END:VEVENT
BEGIN:VEVENT
DTSTART;TZID=Europe/Helsinki:20220815T080000
DTEND;TZID=Europe/Helsinki:20220827T133000
DTSTAMP:20260425T213245
CREATED:20220628T105309Z
LAST-MODIFIED:20220628T105309Z
UID:3222-1660550400-1661607000@tg-waldniel.de
SUMMARY:Einzel Clubmeisterschaften TG Waldniel.
DESCRIPTION:
URL:https://tg-waldniel.de/event/einzel-clubmeisterschaften-tg-waldniel/
LOCATION:TG Waldniel
END:VEVENT
BEGIN:VEVENT
DTSTART;TZID=Europe/Helsinki:20220827T130000
DTEND;TZID=Europe/Helsinki:20220827T233000
DTSTAMP:20260425T213245
CREATED:20220718T164057Z
LAST-MODIFIED:20220718T164057Z
UID:3245-1661605200-1661643000@tg-waldniel.de
SUMMARY:TG Waldniel 1953 e.V. Sommerfest 2022\,
DESCRIPTION:Mit denn Finalspiele der Einzel Clubmeisetrschaften 2022\,
URL:https://tg-waldniel.de/event/tg-waldniel-1953-e-v-sommerfest-2022/
LOCATION:TG Waldniel
END:VEVENT
END:VCALENDAR