BEGIN:VCALENDAR
VERSION:2.0
PRODID:-// - ECPv6.15.20//NONSGML v1.0//EN
CALSCALE:GREGORIAN
METHOD:PUBLISH
X-ORIGINAL-URL:https://tg-waldniel.de
X-WR-CALDESC:Veranstaltungen für 
REFRESH-INTERVAL;VALUE=DURATION:PT1H
X-Robots-Tag:noindex
X-PUBLISHED-TTL:PT1H
BEGIN:VTIMEZONE
TZID:Europe/Helsinki
BEGIN:DAYLIGHT
TZOFFSETFROM:+0200
TZOFFSETTO:+0300
TZNAME:EEST
DTSTART:20210328T010000
END:DAYLIGHT
BEGIN:STANDARD
TZOFFSETFROM:+0300
TZOFFSETTO:+0200
TZNAME:EET
DTSTART:20211031T010000
END:STANDARD
BEGIN:DAYLIGHT
TZOFFSETFROM:+0200
TZOFFSETTO:+0300
TZNAME:EEST
DTSTART:20220327T010000
END:DAYLIGHT
BEGIN:STANDARD
TZOFFSETFROM:+0300
TZOFFSETTO:+0200
TZNAME:EET
DTSTART:20221030T010000
END:STANDARD
BEGIN:DAYLIGHT
TZOFFSETFROM:+0200
TZOFFSETTO:+0300
TZNAME:EEST
DTSTART:20230326T010000
END:DAYLIGHT
BEGIN:STANDARD
TZOFFSETFROM:+0300
TZOFFSETTO:+0200
TZNAME:EET
DTSTART:20231029T010000
END:STANDARD
END:VTIMEZONE
BEGIN:VEVENT
DTSTART;TZID=Europe/Helsinki:20220709T130000
DTEND;TZID=Europe/Helsinki:20220709T203000
DTSTAMP:20260425T232242
CREATED:20220628T101928Z
LAST-MODIFIED:20220708T175620Z
UID:3218-1657371600-1657398600@tg-waldniel.de
SUMMARY:Nachholspiel vom 18-06-2022.
DESCRIPTION:Auswärts 13.00 Uhr:  Damen 40       Dülkener TC              –  TG Waldniel.
URL:https://tg-waldniel.de/event/nachholspiel-vom-18-06-2022/
END:VEVENT
BEGIN:VEVENT
DTSTART;TZID=Europe/Helsinki:20220723T120000
DTEND;TZID=Europe/Helsinki:20220723T200000
DTSTAMP:20260425T232242
CREATED:20220628T102157Z
LAST-MODIFIED:20220628T102157Z
UID:3220-1658577600-1658606400@tg-waldniel.de
SUMMARY:Nachholspiel 18-06-2022.
DESCRIPTION:Auswärts 12.00 Uhr.:   Herren 60 TC Giesenkirchen – TG Waldniel.
URL:https://tg-waldniel.de/event/nachholspiel-18-06-2022/
END:VEVENT
BEGIN:VEVENT
DTSTART;TZID=Europe/Helsinki:20220730T083000
DTEND;TZID=Europe/Helsinki:20220731T190000
DTSTAMP:20260425T232242
CREATED:20220718T165129Z
LAST-MODIFIED:20220718T165129Z
UID:3251-1659169800-1659294000@tg-waldniel.de
SUMMARY:1e LK Turnier TG Waldniel 1953 e.V..
DESCRIPTION:Für alle die etwas an Ihren LK tun wollen.
URL:https://tg-waldniel.de/event/1e-lk-turnier-tg-waldniel-1953-e-v/
LOCATION:TG Waldniel
END:VEVENT
END:VCALENDAR