BEGIN:VCALENDAR
VERSION:2.0
PRODID:-// - ECPv6.15.20//NONSGML v1.0//EN
CALSCALE:GREGORIAN
METHOD:PUBLISH
X-ORIGINAL-URL:https://tg-waldniel.de
X-WR-CALDESC:Veranstaltungen für 
REFRESH-INTERVAL;VALUE=DURATION:PT1H
X-Robots-Tag:noindex
X-PUBLISHED-TTL:PT1H
BEGIN:VTIMEZONE
TZID:Europe/Helsinki
BEGIN:DAYLIGHT
TZOFFSETFROM:+0200
TZOFFSETTO:+0300
TZNAME:EEST
DTSTART:20240331T010000
END:DAYLIGHT
BEGIN:STANDARD
TZOFFSETFROM:+0300
TZOFFSETTO:+0200
TZNAME:EET
DTSTART:20241027T010000
END:STANDARD
BEGIN:DAYLIGHT
TZOFFSETFROM:+0200
TZOFFSETTO:+0300
TZNAME:EEST
DTSTART:20250330T010000
END:DAYLIGHT
BEGIN:STANDARD
TZOFFSETFROM:+0300
TZOFFSETTO:+0200
TZNAME:EET
DTSTART:20251026T010000
END:STANDARD
BEGIN:DAYLIGHT
TZOFFSETFROM:+0200
TZOFFSETTO:+0300
TZNAME:EEST
DTSTART:20260329T010000
END:DAYLIGHT
BEGIN:STANDARD
TZOFFSETFROM:+0300
TZOFFSETTO:+0200
TZNAME:EET
DTSTART:20261025T010000
END:STANDARD
END:VTIMEZONE
BEGIN:VEVENT
DTSTART;TZID=Europe/Helsinki:20250601T090000
DTEND;TZID=Europe/Helsinki:20250601T140000
DTSTAMP:20260421T230449
CREATED:20250413T082136Z
LAST-MODIFIED:20250413T082136Z
UID:4931-1748768400-1748786400@tg-waldniel.de
SUMMARY:Medenspiele\, Heimspiele Offene Herren & D40/1\, Außwärts D 40/2
DESCRIPTION:Heimspiel 09.00 Uhr: Offene Herren – TUS St Hubert 2. \n                                         Damen 40/1 – Treudeutsch Lank 2. \nAußwärts 09:00 Uhr: Casino Kempen 1 – Damen 40/2.
URL:https://tg-waldniel.de/event/medenspiele-heimspiele-offene-herren-d40-1-ausswaerts-d-40-2/
END:VEVENT
END:VCALENDAR