BEGIN:VCALENDAR
VERSION:2.0
PRODID:-// - ECPv6.15.20//NONSGML v1.0//EN
CALSCALE:GREGORIAN
METHOD:PUBLISH
X-ORIGINAL-URL:https://tg-waldniel.de
X-WR-CALDESC:Veranstaltungen für 
REFRESH-INTERVAL;VALUE=DURATION:PT1H
X-Robots-Tag:noindex
X-PUBLISHED-TTL:PT1H
BEGIN:VTIMEZONE
TZID:Europe/Helsinki
BEGIN:DAYLIGHT
TZOFFSETFROM:+0200
TZOFFSETTO:+0300
TZNAME:EEST
DTSTART:20240331T010000
END:DAYLIGHT
BEGIN:STANDARD
TZOFFSETFROM:+0300
TZOFFSETTO:+0200
TZNAME:EET
DTSTART:20241027T010000
END:STANDARD
BEGIN:DAYLIGHT
TZOFFSETFROM:+0200
TZOFFSETTO:+0300
TZNAME:EEST
DTSTART:20250330T010000
END:DAYLIGHT
BEGIN:STANDARD
TZOFFSETFROM:+0300
TZOFFSETTO:+0200
TZNAME:EET
DTSTART:20251026T010000
END:STANDARD
BEGIN:DAYLIGHT
TZOFFSETFROM:+0200
TZOFFSETTO:+0300
TZNAME:EEST
DTSTART:20260329T010000
END:DAYLIGHT
BEGIN:STANDARD
TZOFFSETFROM:+0300
TZOFFSETTO:+0200
TZNAME:EET
DTSTART:20261025T010000
END:STANDARD
END:VTIMEZONE
BEGIN:VEVENT
DTSTART;TZID=Europe/Helsinki:20250517T140000
DTEND;TZID=Europe/Helsinki:20250517T203000
DTSTAMP:20260422T003159
CREATED:20250411T092244Z
LAST-MODIFIED:20250411T092244Z
UID:4905-1747490400-1747513800@tg-waldniel.de
SUMMARY:Medenspiele\, Heimspiel H 50 & D 55/2. Außwärts H 60.
DESCRIPTION:Heimspiel\, 14:00 Uhr\, Herren 50 – TC Neuwerk e.V. \n                                          Damen 55/2 – TG Brüggen 2. \nAußwärts\, 14:00 Uhr\,  TC Schaephuysen – Herren 60.
URL:https://tg-waldniel.de/event/medenspiele-heimspiel-h-50-d-55-2-ausswaerts-h-60/
END:VEVENT
END:VCALENDAR