BEGIN:VCALENDAR
VERSION:2.0
PRODID:-// - ECPv6.15.20//NONSGML v1.0//EN
CALSCALE:GREGORIAN
METHOD:PUBLISH
X-ORIGINAL-URL:https://tg-waldniel.de
X-WR-CALDESC:Veranstaltungen für 
REFRESH-INTERVAL;VALUE=DURATION:PT1H
X-Robots-Tag:noindex
X-PUBLISHED-TTL:PT1H
BEGIN:VTIMEZONE
TZID:Europe/Helsinki
BEGIN:DAYLIGHT
TZOFFSETFROM:+0200
TZOFFSETTO:+0300
TZNAME:EEST
DTSTART:20240331T010000
END:DAYLIGHT
BEGIN:STANDARD
TZOFFSETFROM:+0300
TZOFFSETTO:+0200
TZNAME:EET
DTSTART:20241027T010000
END:STANDARD
BEGIN:DAYLIGHT
TZOFFSETFROM:+0200
TZOFFSETTO:+0300
TZNAME:EEST
DTSTART:20250330T010000
END:DAYLIGHT
BEGIN:STANDARD
TZOFFSETFROM:+0300
TZOFFSETTO:+0200
TZNAME:EET
DTSTART:20251026T010000
END:STANDARD
BEGIN:DAYLIGHT
TZOFFSETFROM:+0200
TZOFFSETTO:+0300
TZNAME:EEST
DTSTART:20260329T010000
END:DAYLIGHT
BEGIN:STANDARD
TZOFFSETFROM:+0300
TZOFFSETTO:+0200
TZNAME:EET
DTSTART:20261025T010000
END:STANDARD
END:VTIMEZONE
BEGIN:VEVENT
DTSTART;TZID=Europe/Helsinki:20250510T140000
DTEND;TZID=Europe/Helsinki:20250510T200000
DTSTAMP:20260423T114404
CREATED:20250411T091146Z
LAST-MODIFIED:20250411T091146Z
UID:4898-1746885600-1746907200@tg-waldniel.de
SUMMARY:Medenspiel\, Zuhause H60 & D55/1 & 2. Auswärts H50 & D30.
DESCRIPTION:Heim\, 14:00 Uhr:         Herren 60  – TC Neuwerk e.V.\n \n                                         Damen 55/1 – Damen 55/2. \nAuswärts\, 14:00 Uhr: TG Brüggen – Herren 50. \n                                        TUS St.Hubert 1 – Damen 30.
URL:https://tg-waldniel.de/event/medenspiel-zuhause-h60-d55-1-2-auswaerts-h50-d30/
END:VEVENT
END:VCALENDAR