BEGIN:VCALENDAR
VERSION:2.0
PRODID:-// - ECPv6.15.20//NONSGML v1.0//EN
CALSCALE:GREGORIAN
METHOD:PUBLISH
X-ORIGINAL-URL:https://tg-waldniel.de
X-WR-CALDESC:Veranstaltungen für 
REFRESH-INTERVAL;VALUE=DURATION:PT1H
X-Robots-Tag:noindex
X-PUBLISHED-TTL:PT1H
BEGIN:VTIMEZONE
TZID:Europe/Helsinki
BEGIN:DAYLIGHT
TZOFFSETFROM:+0200
TZOFFSETTO:+0300
TZNAME:EEST
DTSTART:20230326T010000
END:DAYLIGHT
BEGIN:STANDARD
TZOFFSETFROM:+0300
TZOFFSETTO:+0200
TZNAME:EET
DTSTART:20231029T010000
END:STANDARD
BEGIN:DAYLIGHT
TZOFFSETFROM:+0200
TZOFFSETTO:+0300
TZNAME:EEST
DTSTART:20240331T010000
END:DAYLIGHT
BEGIN:STANDARD
TZOFFSETFROM:+0300
TZOFFSETTO:+0200
TZNAME:EET
DTSTART:20241027T010000
END:STANDARD
BEGIN:DAYLIGHT
TZOFFSETFROM:+0200
TZOFFSETTO:+0300
TZNAME:EEST
DTSTART:20250330T010000
END:DAYLIGHT
BEGIN:STANDARD
TZOFFSETFROM:+0300
TZOFFSETTO:+0200
TZNAME:EET
DTSTART:20251026T010000
END:STANDARD
END:VTIMEZONE
BEGIN:VEVENT
DTSTART;TZID=Europe/Helsinki:20240629T140000
DTEND;TZID=Europe/Helsinki:20240629T200000
DTSTAMP:20260422T193257
CREATED:20240331T115936Z
LAST-MODIFIED:20240331T115936Z
UID:4361-1719669600-1719691200@tg-waldniel.de
SUMMARY:MEDENSPIELE.
DESCRIPTION:HEIM  14:00 Uhr:.        Damen 50 BKA 1   – RW Neuss Grimlinghausen 2. \n                                               Herren 50 BKC   – Glener TC 1.    \nAUSWÄRTS 14:00 Uhr:.    TC Willich 1   –   Damen 30 BKC.       \n                                                       Odenkirchener TC 1 – Damen 40 BKA. \n 
URL:https://tg-waldniel.de/event/medenspiele-15/
END:VEVENT
END:VCALENDAR