BEGIN:VCALENDAR
VERSION:2.0
PRODID:-// - ECPv6.15.20//NONSGML v1.0//EN
CALSCALE:GREGORIAN
METHOD:PUBLISH
X-ORIGINAL-URL:https://tg-waldniel.de
X-WR-CALDESC:Veranstaltungen für 
REFRESH-INTERVAL;VALUE=DURATION:PT1H
X-Robots-Tag:noindex
X-PUBLISHED-TTL:PT1H
BEGIN:VTIMEZONE
TZID:Europe/Helsinki
BEGIN:DAYLIGHT
TZOFFSETFROM:+0200
TZOFFSETTO:+0300
TZNAME:EEST
DTSTART:20230326T010000
END:DAYLIGHT
BEGIN:STANDARD
TZOFFSETFROM:+0300
TZOFFSETTO:+0200
TZNAME:EET
DTSTART:20231029T010000
END:STANDARD
BEGIN:DAYLIGHT
TZOFFSETFROM:+0200
TZOFFSETTO:+0300
TZNAME:EEST
DTSTART:20240331T010000
END:DAYLIGHT
BEGIN:STANDARD
TZOFFSETFROM:+0300
TZOFFSETTO:+0200
TZNAME:EET
DTSTART:20241027T010000
END:STANDARD
BEGIN:DAYLIGHT
TZOFFSETFROM:+0200
TZOFFSETTO:+0300
TZNAME:EEST
DTSTART:20250330T010000
END:DAYLIGHT
BEGIN:STANDARD
TZOFFSETFROM:+0300
TZOFFSETTO:+0200
TZNAME:EET
DTSTART:20251026T010000
END:STANDARD
END:VTIMEZONE
BEGIN:VEVENT
DTSTART;TZID=Europe/Helsinki:20240608T090000
DTEND;TZID=Europe/Helsinki:20240608T200000
DTSTAMP:20260422T181736
CREATED:20240331T112823Z
LAST-MODIFIED:20240331T112823Z
UID:4345-1717837200-1717876800@tg-waldniel.de
SUMMARY:MEDENSPIELE.
DESCRIPTION:HEIM 14:00 Uhr.:        Herren 60 BKA   – Rheinkamp-Repelen 1. 1. \n                                               Damen 40 BKA   – DJK Kleinenbroich 1.    \nAUSWÄRTS 09:00 Uhr.:    TG Brüggen 1  –  Junioren U18 KL.       \n                           14:00 Uhr.:     BW Kevelaer 1 – Damen 50 BKA.
URL:https://tg-waldniel.de/event/medenspiele-9/
END:VEVENT
END:VCALENDAR