BEGIN:VCALENDAR
VERSION:2.0
PRODID:-// - ECPv6.15.20//NONSGML v1.0//EN
CALSCALE:GREGORIAN
METHOD:PUBLISH
X-ORIGINAL-URL:https://tg-waldniel.de
X-WR-CALDESC:Veranstaltungen für 
REFRESH-INTERVAL;VALUE=DURATION:PT1H
X-Robots-Tag:noindex
X-PUBLISHED-TTL:PT1H
BEGIN:VTIMEZONE
TZID:Europe/Helsinki
BEGIN:DAYLIGHT
TZOFFSETFROM:+0200
TZOFFSETTO:+0300
TZNAME:EEST
DTSTART:20230326T010000
END:DAYLIGHT
BEGIN:STANDARD
TZOFFSETFROM:+0300
TZOFFSETTO:+0200
TZNAME:EET
DTSTART:20231029T010000
END:STANDARD
BEGIN:DAYLIGHT
TZOFFSETFROM:+0200
TZOFFSETTO:+0300
TZNAME:EEST
DTSTART:20240331T010000
END:DAYLIGHT
BEGIN:STANDARD
TZOFFSETFROM:+0300
TZOFFSETTO:+0200
TZNAME:EET
DTSTART:20241027T010000
END:STANDARD
BEGIN:DAYLIGHT
TZOFFSETFROM:+0200
TZOFFSETTO:+0300
TZNAME:EEST
DTSTART:20250330T010000
END:DAYLIGHT
BEGIN:STANDARD
TZOFFSETFROM:+0300
TZOFFSETTO:+0200
TZNAME:EET
DTSTART:20251026T010000
END:STANDARD
END:VTIMEZONE
BEGIN:VEVENT
DTSTART;TZID=Europe/Helsinki:20240601T140000
DTEND;TZID=Europe/Helsinki:20240601T193000
DTSTAMP:20260422T181746
CREATED:20240331T111544Z
LAST-MODIFIED:20240331T111544Z
UID:4341-1717250400-1717270200@tg-waldniel.de
SUMMARY:MEDENSPIELE.
DESCRIPTION:HEIM 14:00 Uhr:.    Damen 50 BKA   – Oppumer TC 1.  \n                                          Damen 55 (4er) BKA – NEW SG 26 e.V. 2.   \nAUSWÄRTS 14:00 Uhr:.    TC Rheindahlen   – Damen 40 BKA.       \n                                                       TC Hardt 1  – Herren 59 BKC.
URL:https://tg-waldniel.de/event/medenspiele-7/
END:VEVENT
END:VCALENDAR