BEGIN:VCALENDAR
VERSION:2.0
PRODID:-// - ECPv6.15.20//NONSGML v1.0//EN
CALSCALE:GREGORIAN
METHOD:PUBLISH
X-ORIGINAL-URL:https://tg-waldniel.de
X-WR-CALDESC:Veranstaltungen für 
REFRESH-INTERVAL;VALUE=DURATION:PT1H
X-Robots-Tag:noindex
X-PUBLISHED-TTL:PT1H
BEGIN:VTIMEZONE
TZID:Europe/Helsinki
BEGIN:DAYLIGHT
TZOFFSETFROM:+0200
TZOFFSETTO:+0300
TZNAME:EEST
DTSTART:20230326T010000
END:DAYLIGHT
BEGIN:STANDARD
TZOFFSETFROM:+0300
TZOFFSETTO:+0200
TZNAME:EET
DTSTART:20231029T010000
END:STANDARD
BEGIN:DAYLIGHT
TZOFFSETFROM:+0200
TZOFFSETTO:+0300
TZNAME:EEST
DTSTART:20240331T010000
END:DAYLIGHT
BEGIN:STANDARD
TZOFFSETFROM:+0300
TZOFFSETTO:+0200
TZNAME:EET
DTSTART:20241027T010000
END:STANDARD
BEGIN:DAYLIGHT
TZOFFSETFROM:+0200
TZOFFSETTO:+0300
TZNAME:EEST
DTSTART:20250330T010000
END:DAYLIGHT
BEGIN:STANDARD
TZOFFSETFROM:+0300
TZOFFSETTO:+0200
TZNAME:EET
DTSTART:20251026T010000
END:STANDARD
END:VTIMEZONE
BEGIN:VEVENT
DTSTART;TZID=Europe/Helsinki:20240421T130000
DTEND;TZID=Europe/Helsinki:20240421T180000
DTSTAMP:20260423T125236
CREATED:20240329T170549Z
LAST-MODIFIED:20240329T170650Z
UID:4313-1713704400-1713722400@tg-waldniel.de
SUMMARY:Zur Saison Opening "SCHLÜFFKES TURNIER".
DESCRIPTION:Zur Saison Opening organisiert auch im diesem Jahr die TG Waldniel ihr „Schlüffkes Turnier. \nDieses ist ein offenes Hobby Doppel/Mix  Turnier für Jung und Alt\, Mitglied oder nicht\, jeder ist herzlich willkommen. Spass am Tennis steht im Vordergrund. \nDie Organisation ist in den Händen von Helga Georg und Linda Tervooren. \nBeginn um 13:00 Uhr an.
URL:https://tg-waldniel.de/event/zur-saison-opening-schlueffkes-turnier/
LOCATION:TG Waldniel
END:VEVENT
END:VCALENDAR