BEGIN:VCALENDAR
VERSION:2.0
PRODID:-// - ECPv6.15.20//NONSGML v1.0//EN
CALSCALE:GREGORIAN
METHOD:PUBLISH
X-ORIGINAL-URL:https://tg-waldniel.de
X-WR-CALDESC:Veranstaltungen für 
REFRESH-INTERVAL;VALUE=DURATION:PT1H
X-Robots-Tag:noindex
X-PUBLISHED-TTL:PT1H
BEGIN:VTIMEZONE
TZID:Europe/Helsinki
BEGIN:DAYLIGHT
TZOFFSETFROM:+0200
TZOFFSETTO:+0300
TZNAME:EEST
DTSTART:20220327T010000
END:DAYLIGHT
BEGIN:STANDARD
TZOFFSETFROM:+0300
TZOFFSETTO:+0200
TZNAME:EET
DTSTART:20221030T010000
END:STANDARD
BEGIN:DAYLIGHT
TZOFFSETFROM:+0200
TZOFFSETTO:+0300
TZNAME:EEST
DTSTART:20230326T010000
END:DAYLIGHT
BEGIN:STANDARD
TZOFFSETFROM:+0300
TZOFFSETTO:+0200
TZNAME:EET
DTSTART:20231029T010000
END:STANDARD
BEGIN:DAYLIGHT
TZOFFSETFROM:+0200
TZOFFSETTO:+0300
TZNAME:EEST
DTSTART:20240331T010000
END:DAYLIGHT
BEGIN:STANDARD
TZOFFSETFROM:+0300
TZOFFSETTO:+0200
TZNAME:EET
DTSTART:20241027T010000
END:STANDARD
END:VTIMEZONE
BEGIN:VEVENT
DTSTART;TZID=Europe/Helsinki:20231103T150000
DTEND;TZID=Europe/Helsinki:20231103T173000
DTSTAMP:20260424T223755
CREATED:20231014T203239Z
LAST-MODIFIED:20231014T203627Z
UID:4128-1699023600-1699032600@tg-waldniel.de
SUMMARY:Herbst Platzpflege TG Waldniel 1953 e.V.
DESCRIPTION:                          Freitag 03.11.2023 ab 15:00 Uhr. \n                          Samstag 04.11.2023 ab 10:00 Uhr. \n  \n\nSichtschutz aufrollen.\nBänke säubern und eventuell streichen mit Holzschutz.\nSpielstandanzeige wegräumen in die Garage.\nTerrasse: Stühle säubern und eventuell Griffe mit Holzschutz streichen. (Damen Umkleide.).\nTerrasse: Tische säubern und wegräumen. (Damen Umkleide.).\nTerrasse: Sonnenschirme wegräumen. (Damen Umkleide.).\nDie Decken und Kissenbezüge waschen.\nIn den Duschen (Damen wie Herren) die Fugen reinigen (Schimmelbefall).\nIn der Herren Dusche Silikon Fuge (Grau) erneuern. (Ecke rechts.).\nPlatzutensilien wegräumen in den Container. (Schleppnetz\, Besen\, Scharier Hölzer.).\nNetze Platz 3\,4\,5 und 6 entfernen und in den Container legen.\nKleine Bänke alle unters Vordach von der Trainerhütte räumen.\nHinter Platz 6 von dem toten Weidebaum die Äste abschneiden.\nRundherum von allen Plätzen das übermäßige Unkraut entfernen.\n\n                                                              \n  \n                        \n                                                                       \n 
URL:https://tg-waldniel.de/event/herbst-platzpflege-tg-waldniel-1953-e-v/
LOCATION:TG Waldniel
END:VEVENT
END:VCALENDAR