BEGIN:VCALENDAR
VERSION:2.0
PRODID:-// - ECPv6.15.20//NONSGML v1.0//EN
CALSCALE:GREGORIAN
METHOD:PUBLISH
X-ORIGINAL-URL:https://tg-waldniel.de
X-WR-CALDESC:Veranstaltungen für 
REFRESH-INTERVAL;VALUE=DURATION:PT1H
X-Robots-Tag:noindex
X-PUBLISHED-TTL:PT1H
BEGIN:VTIMEZONE
TZID:Europe/Helsinki
BEGIN:DAYLIGHT
TZOFFSETFROM:+0200
TZOFFSETTO:+0300
TZNAME:EEST
DTSTART:20220327T010000
END:DAYLIGHT
BEGIN:STANDARD
TZOFFSETFROM:+0300
TZOFFSETTO:+0200
TZNAME:EET
DTSTART:20221030T010000
END:STANDARD
BEGIN:DAYLIGHT
TZOFFSETFROM:+0200
TZOFFSETTO:+0300
TZNAME:EEST
DTSTART:20230326T010000
END:DAYLIGHT
BEGIN:STANDARD
TZOFFSETFROM:+0300
TZOFFSETTO:+0200
TZNAME:EET
DTSTART:20231029T010000
END:STANDARD
BEGIN:DAYLIGHT
TZOFFSETFROM:+0200
TZOFFSETTO:+0300
TZNAME:EEST
DTSTART:20240331T010000
END:DAYLIGHT
BEGIN:STANDARD
TZOFFSETFROM:+0300
TZOFFSETTO:+0200
TZNAME:EET
DTSTART:20241027T010000
END:STANDARD
END:VTIMEZONE
BEGIN:VEVENT
DTSTART;TZID=Europe/Helsinki:20230812T080000
DTEND;TZID=Europe/Helsinki:20231001T213000
DTSTAMP:20260425T032514
CREATED:20230619T194255Z
LAST-MODIFIED:20230731T065055Z
UID:3795-1691827200-1696195800@tg-waldniel.de
SUMMARY:Clubmeisterschaften TG Waldniel 1953 e.V..
DESCRIPTION:
URL:https://tg-waldniel.de/event/clubmeisterschaften-tg-waldniel-1953-e-v/
LOCATION:TG Waldniel
ATTACH;FMTTYPE=image/jpeg:https://tg-waldniel.de/wp-content/uploads/2023/06/Clubmeisterschaft-2023-scaled.jpg
END:VEVENT
BEGIN:VEVENT
DTSTART;TZID=Europe/Helsinki:20230819T140000
DTEND;TZID=Europe/Helsinki:20230819T203000
DTSTAMP:20260425T032514
CREATED:20230729T073852Z
LAST-MODIFIED:20230729T073852Z
UID:3876-1692453600-1692477000@tg-waldniel.de
SUMMARY:Medenspiel Herren 50  TG Waldniel 1 - TC Hardt 1.
DESCRIPTION:
URL:https://tg-waldniel.de/event/medenspiel-herren-50-tg-waldniel-1-tc-hardt-1/
ATTACH;FMTTYPE=image/jpeg:https://tg-waldniel.de/wp-content/uploads/2023/03/Herren-50.jpg
END:VEVENT
BEGIN:VEVENT
DTSTART;TZID=Europe/Helsinki:20230819T140000
DTEND;TZID=Europe/Helsinki:20230819T203000
DTSTAMP:20260425T032514
CREATED:20230729T075034Z
LAST-MODIFIED:20230729T075034Z
UID:3882-1692453600-1692477000@tg-waldniel.de
SUMMARY:Medenspiel Damen 40 	TG Waldniel 1  -TC Rheindahlen 1
DESCRIPTION:
URL:https://tg-waldniel.de/event/medenspiel-damen-40-tg-waldniel-1-tc-rheindahlen-1/
LOCATION:TG Waldniel
ATTACH;FMTTYPE=image/jpeg:https://tg-waldniel.de/wp-content/uploads/2023/04/Damen-40-neu.jpg
END:VEVENT
END:VCALENDAR