BEGIN:VCALENDAR
VERSION:2.0
PRODID:-// - ECPv6.15.20//NONSGML v1.0//EN
CALSCALE:GREGORIAN
METHOD:PUBLISH
X-ORIGINAL-URL:https://tg-waldniel.de
X-WR-CALDESC:Veranstaltungen für 
REFRESH-INTERVAL;VALUE=DURATION:PT1H
X-Robots-Tag:noindex
X-PUBLISHED-TTL:PT1H
BEGIN:VTIMEZONE
TZID:Europe/Helsinki
BEGIN:DAYLIGHT
TZOFFSETFROM:+0200
TZOFFSETTO:+0300
TZNAME:EEST
DTSTART:20220327T010000
END:DAYLIGHT
BEGIN:STANDARD
TZOFFSETFROM:+0300
TZOFFSETTO:+0200
TZNAME:EET
DTSTART:20221030T010000
END:STANDARD
BEGIN:DAYLIGHT
TZOFFSETFROM:+0200
TZOFFSETTO:+0300
TZNAME:EEST
DTSTART:20230326T010000
END:DAYLIGHT
BEGIN:STANDARD
TZOFFSETFROM:+0300
TZOFFSETTO:+0200
TZNAME:EET
DTSTART:20231029T010000
END:STANDARD
BEGIN:DAYLIGHT
TZOFFSETFROM:+0200
TZOFFSETTO:+0300
TZNAME:EEST
DTSTART:20240331T010000
END:DAYLIGHT
BEGIN:STANDARD
TZOFFSETFROM:+0300
TZOFFSETTO:+0200
TZNAME:EET
DTSTART:20241027T010000
END:STANDARD
END:VTIMEZONE
BEGIN:VEVENT
DTSTART;TZID=Europe/Helsinki:20230611T090000
DTEND;TZID=Europe/Helsinki:20230611T160000
DTSTAMP:20260425T065032
CREATED:20230606T162035Z
LAST-MODIFIED:20230606T162035Z
UID:3740-1686474000-1686499200@tg-waldniel.de
SUMMARY:Medenspiel\, D50BKA4 TG Waldniel 2 - Uedemer TC 1 und H00BKE 	TG Waldniel 1 - TG Brüggen 2
DESCRIPTION:So.\n11.06.2023 09:00\n \n   D50BKA4\n    TG Waldniel 2 \n  – Uedemer TC 1 \n \n \n \n \n\n\n \n \n \n  H00BKE      \n    TG Waldniel 1 \n  – TG Brüggen 2 \n \n \n \n 
URL:https://tg-waldniel.de/event/medenspiel-d50bka4-tg-waldniel-2-uedemer-tc-1-und-h00bke-tg-waldniel-1-tg-brueggen-2/
LOCATION:TG Waldniel
END:VEVENT
END:VCALENDAR